Workbook
Name BAKERY: #REF!
Name BEER\WINE\LIQUOR: #REF!
Name CIGARETTE\TOBACCO: #REF!
Name Cluster: Clusters!$A$2:$A$21
Name Country: 'Country of Origin'!$B$2:$B$251
Name DAIRY: #REF!
Name DELI: #REF!
Name FLORAL: #REF!
Name FROZEN: #REF!
Name GENERALMERCHANDISE: #REF!
Name GROCERYEDIBLE: #REF!
Name GROCERYINEDIBLE: #REF!
Name HBC: #REF!
Name ISO: 'Country of Origin'!$A$3:$A$251
Name LOBs: LOBs!$A$2:$A$32
Name MEAT: #REF!
Name PREPAREDFOODS: #REF!
Name PRODUCE: #REF!
Name SEAFOOD: #REF!

Sheet Instructions
A1: Version 2
C2: New DSD Shipper Form | K2: Disclaimer: In the event that an item is discontinued due to poor performance, Giant Eagle will bill the vendor 50% of the average cost of the remaining inventory to cover markdowns to liquidate the item.
A3: INSTRUCTIONS:
A4: Vendor/Supplier fields are in BLUE.
A5: Giant Eagle/Merch fields are in GREEN.
A6: Mandatory fields are marked with a RED Asterisk: *
A7: Additionally, mandatory fields which are not yet filled in will be highlighted: BLUE for Vendor/Supplier fields, GREEN for Giant Eagle/Merch fields.
A8: Field headers can be clicked on to show a tooltip with detailed instructions for that field.
A10: The 'Request' tab includes high-level details which apply to all items across all tabs. This tab consists of a single row of data.
A11: The 'Shipper' tab (only applicable for New Shipper requests) applies to the shipper container itself. This tab consists of a single row of data.
A12: The 'Item' tab includes all details related to the sellable units within the request. This tab allows up to 100 rows of data.
A13: The 'Attachments' tab allows you to attach UPC and product images as necessary.
B14: IMPORTANT: The form will not be accepted without UPC images. A Product Information Sheet should also be attached alongside this form.
A16: The 'Item' tab includes all item attributes required for new item setup. Toward the end of the form are specific sections for the following lines of business:
B17: Space Planning: Includes Unit/Tray dimensions for use in Blue Yonder space planning applications
B18: Perishable: Includes Perishable-specific attributes such as shelf life and nutritional information
B19: Cigarette/Tobacco: Includes unique attributes which define item attributes by US State
B20: Beer/Wine/Liquor: Includes unique attributes for handling specific item discounts
A22: COPY AND PASTING DATA:
A23: It is not recommended to copy and paste data from a different Excel spreadsheet into this one.
A24: If necesssary, it is recommended to paste using CTRL+SHIFT+V, or by using the 'Keep Source Formatting' option.
A25: If invalid data is copy and pasted into the form, it will highlight the field in ORANGE.
A26: If this occurs, you must correct the data before submitting the form through the next step of the process.
A27: You can click the Field Header to review the instructions for that field if you are unsure of how to correct the data.
A29: UPC / BARCODE FORMATTING:
A30: DO NOT INCLUDE CHECK DIGITS FOR ANY UPC FIELDS. These will be calculated separately. Do include system designators and leading zeroes if necessary.
A31: UPC-A (12 digits): | F31: < Include first 11 digits in the UPC field. 12th will be calculated.
A32: UPC-E (8 digits): | F32: < Include first 7 digits in the UPC field. 8th will be calculated.
A33: EAN-8 (8 digits): | F33: < Include first 7 digits in the UPC field. 8th will be calculated.
A34: EAN-13 (13 digits): | F34: < Include first 12 digits in the UPC field. 13th will be calculated.
A35: GTIN-14 (14 digits): | F35: < Include first 13 digits in the GTIN field. 14th will be calculated. NOTE: For the 'Case UPC' field, GTINs can be shorted to UPC-A format if needed. When doing so, remove leading any digits, but keep leading zeroes up to 11 digits (12 with check digit).

Sheet Request
A1: Request Fields
A2: Item Type* | B2: Line of Business* | C2: Request Description* | D2: Supplier Name* | E2: Supplier #* | F2: Vendor Name* | G2: Vendor #* | H2: Broker Name | I2: Broker # | J2: Contact Name* | K2: Contact Email* | L2: Contact Phone* | M2: Tag Print* | N2: Tag Date | O2: Survey Date | P2: Known Loss Block* | Q2: Buyer # | R2: Merch #* | S2: Dept # | T2: Facility* | U2: WH Code* | V2: Priority* | W2: Request Notes
A3: DSD Shipper | V3: Medium

Sheet Shipper
A1: Shipper Fields
A2: Supplier Name* | B2: Supplier #* | C2: Sh. UPC Format* | D2: Shipper UPC* | E2: ✔ Shipper UPC Check Digit | F2: Shipper Description (30 Chars)* | G2: Shipper QTY* | H2: Shipper Cost* | I2: Shipper Group* | J2: Shipper Subgroup* | K2: Shipper L/D (in)* | L2: Shipper W (in)* | M2: Shipper H (in)* | N2: Shipper Wgt (lbs)* | O2: Shipper CAW | P2: S. Tie* | Q2: S. Tier* | R2: Shipper Margin*
E3: =IF(LEN($D3)<1,"",RIGHT(10-RIGHT( MID(_xlfn.CONCAT(REPT("0",14-LEN($D3)),$D3),1,1) +MID(_xlfn.CONCAT(REPT("0",14-LEN($D3)),$D3),2,1)*3 +MID(_xlfn.CONCAT(REPT("0",14-LEN($D3)),$D3),3,1) +MID(_xlfn.CONCAT(REPT("0",14-LEN($D3)),$D3),4,1)*3 +MID(_xlfn.CONCAT(REPT("0",14-LEN($D3)),$D3),5,1) +MID(_xlfn.CONCAT(REPT("0",14-LEN($D3)),$D3),6,1)*3 +MID(_xlfn.CONCAT(REPT("0",14-LEN($D3)),$D3),7,1) +MID(_xlfn.CONCAT(REPT("0",14-LEN($D3)),$D3),8,1)*3 +MID(_xlfn.CONCAT(REPT("0",14-LEN($D3)),$D3),9,1) +MID(_xlfn.CONCAT(REPT("0",14-LEN($D3)),$D3),10,1)*3 +MID(_xlfn.CONCAT(REPT("0",14-LEN($D3)),$D3),11,1) +MID(_xlfn.CONCAT(REPT("0",14-LEN($D3)),$D3),12,1)*3 +MID(_xlfn.CONCAT(REPT("0",14-LEN($D3)),$D3),13,1) +MID(_xlfn.CONCAT(REPT("0",14-LEN($D3)),$D3),14,1)*3)))

Sheet Item
A1: Universal Item Fields | CB1: Perishable | CY1: Cigarette/Tobacco | DO1: B/W/L
A2: Supplier Name* | B2: Supplier #* | C2: Reason* | D2: Product Type* | E2: Line Extension?* | F2: Replaced WITEM | G2: Shipper Item Status* | H2: Similar Item UPC Format | I2: Similar Item UPC | J2: ✔ Similar Item UPC Check Digit | K2: Unit UPC Format* | L2: Unit UPC* | M2: ✔ Unit UPC Check Digit | N2: Case UPC Format* | O2: Case UPC* | P2: ✔ Case UPC Check Digit | Q2: GTIN | R2: ✔ GTIN Check Digit | S2: Brand | T2: Full Item Description* | U2: Item Description (30 Chars)* | V2: POS Desc. (18 Chars)* | W2: Shelf Tag Desc. Line 1 (25 Chars)* | X2: Shelf Tag Desc. Line 2 (25 Chars) | Y2: Size* | Z2: UOM* | AA2: Tag Size | AB2: Tag UOM | AC2: Group* | AD2: Subgroup* | AE2: Family* | AF2: Aggregate ID* | AG2: Own Brands* | AH2: HSA/FSA Eligible?* | AI2: Country of Origin* | AJ2: Shipper Item Quantity* | AK2: Pack/Case Quantity* | AL2: Inner Pack (Units) | AM2: MOQ* | AN2: MPQ | AO2: Case L/D (in)* | AP2: Case W (in)* | AQ2: Case H (in)* | AR2: Case Wgt (lbs)* | AS2: Case Cube | AT2: CAW | AU2: Tie* | AV2: Tier* | AW2: Shipper Unit Cost* | AX2: Pack/Case Cost* | AY2: Unit Cost | AZ2: Unit Allowance | BA2: Wholesale Margin* | BB2: Shipper Sell Cost | BC2: Sell Cost | BD2: Allowance Type | BE2: Reflect | BF2: W. Margin (Calc) | BG2: Cost Link | BH2: Exp. Movement* | BI2: Shelf Life* | BJ2: Availability Date* | BK2: Order Restriction* | BL2: Slotting Fee | BM2: SRP | BN2: Pre-Priced Item?* | BO2: Pre-Priced Retail | BP2: Retail Quantity* | BQ2: Retail Price* | BR2: Shipper R. Margin | BS2: R. Margin (Calc) | BT2: Unit L/D (in)* | BU2: Unit W (in)* | BV2: Unit H (in)* | BW2: Unit Wgt (lbs)* | BX2: Tray L/D (in) | BY2: Tray W (in) | BZ2: Tray H (in) | CA2: Tray Count | CB2: Manufacturer # | CC2: Days from Pack | CD2: Days Guaranteed Upon Arrival | CE2: Days Warning | CF2: BICEPS 02 Shelf Life | CG2: Pack Date/Sell By | CH2: Retail Shelf Life | CI2: Fixed/Catch Weight | CJ2: % of Juice | CK2: Gluten Free? | CL2: WIC Eligible? | CM2: Foodstamp Eligible? | CN2: Leaker Allowance | CO2: Item PLU | CP2: Tare Code | CQ2: Tare | CR2: Tray Size | CS2: Wrapped Tare | CT2: Unwrapped Tare | CU2: Cost Type | CV2: Distro Only? | CW2: Order Book? | CX2: Donation? | CY2: MSAI Description | CZ2: NEI UPC Format | DA2: NEI UPC | DB2: ✔ NEI UPC Check Digit | DC2: NEI Size | DD2: NEI UOM | DE2: NEI Cost | DF2: State | DG2: Code Ends In | DH2: Tax Stamp Item | DI2: Tobacco Type | DJ2: Sticks in Pack | DK2: Purch Status | DL2: Billing Status | DM2: NEI Retail GE | DN2: NEI Retail GG | DO2: Wine Discount | DP2: Store Cluster | DQ2: Promo Cost | DR2: Promo Price | DS2: Promo Start | DT2: Promo End | DU2: Item Notes
J3: =IF(LEN($I3)<1,"",RIGHT(10-RIGHT( MID(_xlfn.CONCAT(REPT("0",12-LEN($I3)),$I3),1,1) +MID(_xlfn.CONCAT(REPT("0",12-LEN($I3)),$I3),2,1)*3 +MID(_xlfn.CONCAT(REPT("0",12-LEN($I3)),$I3),3,1) +MID(_xlfn.CONCAT(REPT("0",12-LEN($I3)),$I3),4,1)*3 +MID(_xlfn.CONCAT(REPT("0",12-LEN($I3)),$I3),5,1) +MID(_xlfn.CONCAT(REPT("0",12-LEN($I3)),$I3),6,1)*3 +MID(_xlfn.CONCAT(REPT("0",12-LEN($I3)),$I3),7,1) +MID(_xlfn.CONCAT(REPT("0",12-LEN($I3)),$I3),8,1)*3 +MID(_xlfn.CONCAT(REPT("0",12-LEN($I3)),$I3),9,1) +MID(_xlfn.CONCAT(REPT("0",12-LEN($I3)),$I3),10,1)*3 +MID(_xlfn.CONCAT(REPT("0",12-LEN($I3)),$I3),11,1) +MID(_xlfn.CONCAT(REPT("0",12-LEN($I3)),$I3),12,1)*3))) | M3: =IF(LEN($L3)<1,"",RIGHT(10-RIGHT( MID(_xlfn.CONCAT(REPT("0",12-LEN($L3)),$L3),1,1) +MID(_xlfn.CONCAT(REPT("0",12-LEN($L3)),$L3),2,1)*3 +MID(_xlfn.CONCAT(REPT("0",12-LEN($L3)),$L3),3,1) +MID(_xlfn.CONCAT(REPT("0",12-LEN($L3)),$L3),4,1)*3 +MID(_xlfn.CONCAT(REPT("0",12-LEN($L3)),$L3),5,1) +MID(_xlfn.CONCAT(REPT("0",12-LEN($L3)),$L3),6,1)*3 +MID(_xlfn.CONCAT(REPT("0",12-LEN($L3)),$L3),7,1) +MID(_xlfn.CONCAT(REPT("0",12-LEN($L3)),$L3),8,1)*3 +MID(_xlfn.CONCAT(REPT("0",12-LEN($L3)),$L3),9,1) +MID(_xlfn.CONCAT(REPT("0",12-LEN($L3)),$L3),10,1)*3 +MID(_xlfn.CONCAT(REPT("0",12-LEN($L3)),$L3),11,1) +MID(_xlfn.CONCAT(REPT("0",12-LEN($L3)),$L3),12,1)*3))) | P3: =IF(LEN($O3)<1,"",RIGHT(10-RIGHT( MID(_xlfn.CONCAT(REPT("0",14-LEN($O3)),$O3),1,1) +MID(_xlfn.CONCAT(REPT("0",14-LEN($O3)),$O3),2,1)*3 +MID(_xlfn.CONCAT(REPT("0",14-LEN($O3)),$O3),3,1) +MID(_xlfn.CONCAT(REPT("0",14-LEN($O3)),$O3),4,1)*3 +MID(_xlfn.CONCAT(REPT("0",14-LEN($O3)),$O3),5,1) +MID(_xlfn.CONCAT(REPT("0",14-LEN($O3)),$O3),6,1)*3 +MID(_xlfn.CONCAT(REPT("0",14-LEN($O3)),$O3),7,1) +MID(_xlfn.CONCAT(REPT("0",14-LEN($O3)),$O3),8,1)*3 +MID(_xlfn.CONCAT(REPT("0",14-LEN($O3)),$O3),9,1) +MID(_xlfn.CONCAT(REPT("0",14-LEN($O3)),$O3),10,1)*3 +MID(_xlfn.CONCAT(REPT("0",14-LEN($O3)),$O3),11,1) +MID(_xlfn.CONCAT(REPT("0",14-LEN($O3)),$O3),12,1)*3 +MID(_xlfn.CONCAT(REPT("0",14-LEN($O3)),$O3),13,1) +MID(_xlfn.CONCAT(REPT("0",14-LEN($O3)),$O3),14,1)*3))) | R3: =IF( LEN($Q3)<1, "", RIGHT(10-RIGHT( MID($Q3,1,1)*3 +MID($Q3,2,1) +MID($Q3,3,1)*3 +MID($Q3,4,1) +MID($Q3,5,1)*3 +MID($Q3,6,1) +MID($Q3,7,1)*3 +MID($Q3,8,1) +MID($Q3,9,1)*3 +MID($Q3,10,1) +MID($Q3,11,1)*3 +MID($Q3,12,1) +MID($Q3,13,1)*3,1),1) ) | T3: =IF(LEN(U3)>0,U3,"") | AS3: =IF(LEN($AO3)<1,"",IF(LEN($AP3)<1,"",IF(LEN($AQ3)<1,"",IFERROR(($AO3*$AP3*$AQ3)/1728,"")))) | AY3: =IF(LEN($AX3)<1,"",IF(LEN($AK3)<1,$AX3,IFERROR($AX3/$AK3,""))) | BB3: =IF(LEN($AW3)<1,"",IF(LEN($BA3)<1,"",IFERROR($AW3/(1-$BA3),""))) | BC3: =IF(LEN($AY3)<1,"",IF(LEN($BA3)<1,"",IFERROR($AY3/(1-$BA3),""))) | BF3: {=IF(LEN($BD3)<1,"",IFERROR( _xlfn.SWITCH($BD3, "None","", "OI & Reflect",(($BC3-$BE3)-($AY3-$AZ3))/($BC3-$BE3), "OI",($BC3-($AY3-$AZ3))/($BC3),"Scanback",""),""))} | BR3: =IFERROR(IF(ISBLANK(BP3),((BQ3-AW3)/BQ3),(((BQ3/BP3)-AW3)/(BQ3/BP3))),"") | BS3: {=IFERROR( _xlfn.SWITCH($BD3, 0,IF(ISBLANK($BP3),($BQ3-$BC3)/$BQ3,(($BQ3/$BP3)-$BC3)/($BQ3/$BP3)), "None",IF(ISBLANK($BP3),($BQ3-$BC3)/$BQ3,(($BQ3/$BP3)-$BC3)/($BQ3/$BP3)), "OI & Reflect",IF(ISBLANK($BP3),($BQ3-($BC3-$BE3))/$BQ3,(($BQ3/$BP3)-($BC3-$BE3))/($BQ3/$BP3)), "OI",IF(ISBLANK($BP3),($BQ3-$BC3)/$BQ3,(($BQ3/$BP3)-$BC3)/($BQ3/$BP3)), "Scanback",IF(ISBLANK($BP3),($BQ3-($BC3-$AZ3))/$BQ3,(($BQ3/$BP3)-($BC3-$AZ3))/($BQ3/$BP3))),"")} | CD3: =IF(LEN($BI3)<1,"",IFERROR($BI3,"")) | CF3: =IF(LEN($CD3)<1,"",IFERROR($CD3-$CE3,"")) | DB3: =IF(LEN($DA3)<1,"",RIGHT(10-RIGHT( MID(_xlfn.CONCAT(REPT("0",12-LEN($DA3)),$DA3),1,1) +MID(_xlfn.CONCAT(REPT("0",12-LEN($DA3)),$DA3),2,1)*3 +MID(_xlfn.CONCAT(REPT("0",12-LEN($DA3)),$DA3),3,1) +MID(_xlfn.CONCAT(REPT("0",12-LEN($DA3)),$DA3),4,1)*3 +MID(_xlfn.CONCAT(REPT("0",12-LEN($DA3)),$DA3),5,1) +MID(_xlfn.CONCAT(REPT("0",12-LEN($DA3)),$DA3),6,1)*3 +MID(_xlfn.CONCAT(REPT("0",12-LEN($DA3)),$DA3),7,1) +MID(_xlfn.CONCAT(REPT("0",12-LEN($DA3)),$DA3),8,1)*3 +MID(_xlfn.CONCAT(REPT("0",12-LEN($DA3)),$DA3),9,1) +MID(_xlfn.CONCAT(REPT("0",12-LEN($DA3)),$DA3),10,1)*3 +MID(_xlfn.CONCAT(REPT("0",12-LEN($DA3)),$DA3),11,1) +MID(_xlfn.CONCAT(REPT("0",12-LEN($DA3)),$DA3),12,1)*3)))
J4: =IF(LEN($I4)<1,"",RIGHT(10-RIGHT( MID(_xlfn.CONCAT(REPT("0",12-LEN($I4)),$I4),1,1) +MID(_xlfn.CONCAT(REPT("0",12-LEN($I4)),$I4),2,1)*3 +MID(_xlfn.CONCAT(REPT("0",12-LEN($I4)),$I4),3,1) +MID(_xlfn.CONCAT(REPT("0",12-LEN($I4)),$I4),4,1)*3 +MID(_xlfn.CONCAT(REPT("0",12-LEN($I4)),$I4),5,1) +MID(_xlfn.CONCAT(REPT("0",12-LEN($I4)),$I4),6,1)*3 +MID(_xlfn.CONCAT(REPT("0",12-LEN($I4)),$I4),7,1) +MID(_xlfn.CONCAT(REPT("0",12-LEN($I4)),$I4),8,1)*3 +MID(_xlfn.CONCAT(REPT("0",12-LEN($I4)),$I4),9,1) +MID(_xlfn.CONCAT(REPT("0",12-LEN($I4)),$I4),10,1)*3 +MID(_xlfn.CONCAT(REPT("0",12-LEN($I4)),$I4),11,1) +MID(_xlfn.CONCAT(REPT("0",12-LEN($I4)),$I4),12,1)*3))) | M4: =IF(LEN($L4)<1,"",RIGHT(10-RIGHT( MID(_xlfn.CONCAT(REPT("0",12-LEN($L4)),$L4),1,1) +MID(_xlfn.CONCAT(REPT("0",12-LEN($L4)),$L4),2,1)*3 +MID(_xlfn.CONCAT(REPT("0",12-LEN($L4)),$L4),3,1) +MID(_xlfn.CONCAT(REPT("0",12-LEN($L4)),$L4),4,1)*3 +MID(_xlfn.CONCAT(REPT("0",12-LEN($L4)),$L4),5,1) +MID(_xlfn.CONCAT(REPT("0",12-LEN($L4)),$L4),6,1)*3 +MID(_xlfn.CONCAT(REPT("0",12-LEN($L4)),$L4),7,1) +MID(_xlfn.CONCAT(REPT("0",12-LEN($L4)),$L4),8,1)*3 +MID(_xlfn.CONCAT(REPT("0",12-LEN($L4)),$L4),9,1) +MID(_xlfn.CONCAT(REPT("0",12-LEN($L4)),$L4),10,1)*3 +MID(_xlfn.CONCAT(REPT("0",12-LEN($L4)),$L4),11,1) +MID(_xlfn.CONCAT(REPT("0",12-LEN($L4)),$L4),12,1)*3))) | P4: =IF(LEN($O4)<1,"",RIGHT(10-RIGHT( MID(_xlfn.CONCAT(REPT("0",14-LEN($O4)),$O4),1,1) +MID(_xlfn.CONCAT(REPT("0",14-LEN($O4)),$O4),2,1)*3 +MID(_xlfn.CONCAT(REPT("0",14-LEN($O4)),$O4),3,1) +MID(_xlfn.CONCAT(REPT("0",14-LEN($O4)),$O4),4,1)*3 +MID(_xlfn.CONCAT(REPT("0",14-LEN($O4)),$O4),5,1) +MID(_xlfn.CONCAT(REPT("0",14-LEN($O4)),$O4),6,1)*3 +MID(_xlfn.CONCAT(REPT("0",14-LEN($O4)),$O4),7,1) +MID(_xlfn.CONCAT(REPT("0",14-LEN($O4)),$O4),8,1)*3 +MID(_xlfn.CONCAT(REPT("0",14-LEN($O4)),$O4),9,1) +MID(_xlfn.CONCAT(REPT("0",14-LEN($O4)),$O4),10,1)*3 +MID(_xlfn.CONCAT(REPT("0",14-LEN($O4)),$O4),11,1) +MID(_xlfn.CONCAT(REPT("0",14-LEN($O4)),$O4),12,1)*3 +MID(_xlfn.CONCAT(REPT("0",14-LEN($O4)),$O4),13,1) +MID(_xlfn.CONCAT(REPT("0",14-LEN($O4)),$O4),14,1)*3))) | R4: =IF( LEN($Q4)<1, "", RIGHT(10-RIGHT( MID($Q4,1,1)*3 +MID($Q4,2,1) +MID($Q4,3,1)*3 +MID($Q4,4,1) +MID($Q4,5,1)*3 +MID($Q4,6,1) +MID($Q4,7,1)*3 +MID($Q4,8,1) +MID($Q4,9,1)*3 +MID($Q4,10,1) +MID($Q4,11,1)*3 +MID($Q4,12,1) +MID($Q4,13,1)*3,1),1) ) | T4: =IF(LEN(U4)>0,U4,"") | AS4: =IF(LEN($AO4)<1,"",IF(LEN($AP4)<1,"",IF(LEN($AQ4)<1,"",IFERROR(($AO4*$AP4*$AQ4)/1728,"")))) | AY4: =IF(LEN($AX4)<1,"",IF(LEN($AK4)<1,$AX4,IFERROR($AX4/$AK4,""))) | BB4: =IF(LEN($AW4)<1,"",IF(LEN($BA4)<1,"",IFERROR($AW4/(1-$BA4),""))) | BC4: =IF(LEN($AY4)<1,"",IF(LEN($BA4)<1,"",IFERROR($AY4/(1-$BA4),""))) | BF4: {=IF(LEN($BD4)<1,"",IFERROR( _xlfn.SWITCH($BD4, "None","", "OI & Reflect",(($BC4-$BE4)-($AY4-$AZ4))/($BC4-$BE4), "OI",($BC4-($AY4-$AZ4))/($BC4),"Scanback",""),""))} | BR4: =IFERROR(IF(ISBLANK(BP4),((BQ4-AW4)/BQ4),(((BQ4/BP4)-AW4)/(BQ4/BP4))),"") | BS4: {=IFERROR( _xlfn.SWITCH($BD4, 0,IF(ISBLANK($BP4),($BQ4-$BC4)/$BQ4,(($BQ4/$BP4)-$BC4)/($BQ4/$BP4)), "None",IF(ISBLANK($BP4),($BQ4-$BC4)/$BQ4,(($BQ4/$BP4)-$BC4)/($BQ4/$BP4)), "OI & Reflect",IF(ISBLANK($BP4),($BQ4-($BC4-$BE4))/$BQ4,(($BQ4/$BP4)-($BC4-$BE4))/($BQ4/$BP4)), "OI",IF(ISBLANK($BP4),($BQ4-$BC4)/$BQ4,(($BQ4/$BP4)-$BC4)/($BQ4/$BP4)), "Scanback",IF(ISBLANK($BP4),($BQ4-($BC4-$AZ4))/$BQ4,(($BQ4/$BP4)-($BC4-$AZ4))/($BQ4/$BP4))),"")} | CD4: =IF(LEN($BI4)<1,"",IFERROR($BI4,"")) | CF4: =IF(LEN($CD4)<1,"",IFERROR($CD4-$CE4,"")) | DB4: =IF(LEN($DA4)<1,"",RIGHT(10-RIGHT( MID(_xlfn.CONCAT(REPT("0",12-LEN($DA4)),$DA4),1,1) +MID(_xlfn.CONCAT(REPT("0",12-LEN($DA4)),$DA4),2,1)*3 +MID(_xlfn.CONCAT(REPT("0",12-LEN($DA4)),$DA4),3,1) +MID(_xlfn.CONCAT(REPT("0",12-LEN($DA4)),$DA4),4,1)*3 +MID(_xlfn.CONCAT(REPT("0",12-LEN($DA4)),$DA4),5,1) +MID(_xlfn.CONCAT(REPT("0",12-LEN($DA4)),$DA4),6,1)*3 +MID(_xlfn.CONCAT(REPT("0",12-LEN($DA4)),$DA4),7,1) +MID(_xlfn.CONCAT(REPT("0",12-LEN($DA4)),$DA4),8,1)*3 +MID(_xlfn.CONCAT(REPT("0",12-LEN($DA4)),$DA4),9,1) +MID(_xlfn.CONCAT(REPT("0",12-LEN($DA4)),$DA4),10,1)*3 +MID(_xlfn.CONCAT(REPT("0",12-LEN($DA4)),$DA4),11,1) +MID(_xlfn.CONCAT(REPT("0",12-LEN($DA4)),$DA4),12,1)*3)))
J5: =IF(LEN($I5)<1,"",RIGHT(10-RIGHT( MID(_xlfn.CONCAT(REPT("0",12-LEN($I5)),$I5),1,1) +MID(_xlfn.CONCAT(REPT("0",12-LEN($I5)),$I5),2,1)*3 +MID(_xlfn.CONCAT(REPT("0",12-LEN($I5)),$I5),3,1) +MID(_xlfn.CONCAT(REPT("0",12-LEN($I5)),$I5),4,1)*3 +MID(_xlfn.CONCAT(REPT("0",12-LEN($I5)),$I5),5,1) +MID(_xlfn.CONCAT(REPT("0",12-LEN($I5)),$I5),6,1)*3 +MID(_xlfn.CONCAT(REPT("0",12-LEN($I5)),$I5),7,1) +MID(_xlfn.CONCAT(REPT("0",12-LEN($I5)),$I5),8,1)*3 +MID(_xlfn.CONCAT(REPT("0",12-LEN($I5)),$I5),9,1) +MID(_xlfn.CONCAT(REPT("0",12-LEN($I5)),$I5),10,1)*3 +MID(_xlfn.CONCAT(REPT("0",12-LEN($I5)),$I5),11,1) +MID(_xlfn.CONCAT(REPT("0",12-LEN($I5)),$I5),12,1)*3))) | M5: =IF(LEN($L5)<1,"",RIGHT(10-RIGHT( MID(_xlfn.CONCAT(REPT("0",12-LEN($L5)),$L5),1,1) +MID(_xlfn.CONCAT(REPT("0",12-LEN($L5)),$L5),2,1)*3 +MID(_xlfn.CONCAT(REPT("0",12-LEN($L5)),$L5),3,1) +MID(_xlfn.CONCAT(REPT("0",12-LEN($L5)),$L5),4,1)*3 +MID(_xlfn.CONCAT(REPT("0",12-LEN($L5)),$L5),5,1) +MID(_xlfn.CONCAT(REPT("0",12-LEN($L5)),$L5),6,1)*3 +MID(_xlfn.CONCAT(REPT("0",12-LEN($L5)),$L5),7,1) +MID(_xlfn.CONCAT(REPT("0",12-LEN($L5)),$L5),8,1)*3 +MID(_xlfn.CONCAT(REPT("0",12-LEN($L5)),$L5),9,1) +MID(_xlfn.CONCAT(REPT("0",12-LEN($L5)),$L5),10,1)*3 +MID(_xlfn.CONCAT(REPT("0",12-LEN($L5)),$L5),11,1) +MID(_xlfn.CONCAT(REPT("0",12-LEN($L5)),$L5),12,1)*3))) | P5: =IF(LEN($O5)<1,"",RIGHT(10-RIGHT( MID(_xlfn.CONCAT(REPT("0",14-LEN($O5)),$O5),1,1) +MID(_xlfn.CONCAT(REPT("0",14-LEN($O5)),$O5),2,1)*3 +MID(_xlfn.CONCAT(REPT("0",14-LEN($O5)),$O5),3,1) +MID(_xlfn.CONCAT(REPT("0",14-LEN($O5)),$O5),4,1)*3 +MID(_xlfn.CONCAT(REPT("0",14-LEN($O5)),$O5),5,1) +MID(_xlfn.CONCAT(REPT("0",14-LEN($O5)),$O5),6,1)*3 +MID(_xlfn.CONCAT(REPT("0",14-LEN($O5)),$O5),7,1) +MID(_xlfn.CONCAT(REPT("0",14-LEN($O5)),$O5),8,1)*3 +MID(_xlfn.CONCAT(REPT("0",14-LEN($O5)),$O5),9,1) +MID(_xlfn.CONCAT(REPT("0",14-LEN($O5)),$O5),10,1)*3 +MID(_xlfn.CONCAT(REPT("0",14-LEN($O5)),$O5),11,1) +MID(_xlfn.CONCAT(REPT("0",14-LEN($O5)),$O5),12,1)*3 +MID(_xlfn.CONCAT(REPT("0",14-LEN($O5)),$O5),13,1) +MID(_xlfn.CONCAT(REPT("0",14-LEN($O5)),$O5),14,1)*3))) | R5: =IF( LEN($Q5)<1, "", RIGHT(10-RIGHT( MID($Q5,1,1)*3 +MID($Q5,2,1) +MID($Q5,3,1)*3 +MID($Q5,4,1) +MID($Q5,5,1)*3 +MID($Q5,6,1) +MID($Q5,7,1)*3 +MID($Q5,8,1) +MID($Q5,9,1)*3 +MID($Q5,10,1) +MID($Q5,11,1)*3 +MID($Q5,12,1) +MID($Q5,13,1)*3,1),1) ) | T5: =IF(LEN(U5)>0,U5,"") | AS5: =IF(LEN($AO5)<1,"",IF(LEN($AP5)<1,"",IF(LEN($AQ5)<1,"",IFERROR(($AO5*$AP5*$AQ5)/1728,"")))) | AY5: =IF(LEN($AX5)<1,"",IF(LEN($AK5)<1,$AX5,IFERROR($AX5/$AK5,""))) | BB5: =IF(LEN($AW5)<1,"",IF(LEN($BA5)<1,"",IFERROR($AW5/(1-$BA5),""))) | BC5: =IF(LEN($AY5)<1,"",IF(LEN($BA5)<1,"",IFERROR($AY5/(1-$BA5),""))) | BF5: {=IF(LEN($BD5)<1,"",IFERROR( _xlfn.SWITCH($BD5, "None","", "OI & Reflect",(($BC5-$BE5)-($AY5-$AZ5))/($BC5-$BE5), "OI",($BC5-($AY5-$AZ5))/($BC5),"Scanback",""),""))} | BR5: =IFERROR(IF(ISBLANK(BP5),((BQ5-AW5)/BQ5),(((BQ5/BP5)-AW5)/(BQ5/BP5))),"") | BS5: {=IFERROR( _xlfn.SWITCH($BD5, 0,IF(ISBLANK($BP5),($BQ5-$BC5)/$BQ5,(($BQ5/$BP5)-$BC5)/($BQ5/$BP5)), "None",IF(ISBLANK($BP5),($BQ5-$BC5)/$BQ5,(($BQ5/$BP5)-$BC5)/($BQ5/$BP5)), "OI & Reflect",IF(ISBLANK($BP5),($BQ5-($BC5-$BE5))/$BQ5,(($BQ5/$BP5)-($BC5-$BE5))/($BQ5/$BP5)), "OI",IF(ISBLANK($BP5),($BQ5-$BC5)/$BQ5,(($BQ5/$BP5)-$BC5)/($BQ5/$BP5)), "Scanback",IF(ISBLANK($BP5),($BQ5-($BC5-$AZ5))/$BQ5,(($BQ5/$BP5)-($BC5-$AZ5))/($BQ5/$BP5))),"")} | CD5: =IF(LEN($BI5)<1,"",IFERROR($BI5,"")) | CF5: =IF(LEN($CD5)<1,"",IFERROR($CD5-$CE5,"")) | DB5: =IF(LEN($DA5)<1,"",RIGHT(10-RIGHT( MID(_xlfn.CONCAT(REPT("0",12-LEN($DA5)),$DA5),1,1) +MID(_xlfn.CONCAT(REPT("0",12-LEN($DA5)),$DA5),2,1)*3 +MID(_xlfn.CONCAT(REPT("0",12-LEN($DA5)),$DA5),3,1) +MID(_xlfn.CONCAT(REPT("0",12-LEN($DA5)),$DA5),4,1)*3 +MID(_xlfn.CONCAT(REPT("0",12-LEN($DA5)),$DA5),5,1) +MID(_xlfn.CONCAT(REPT("0",12-LEN($DA5)),$DA5),6,1)*3 +MID(_xlfn.CONCAT(REPT("0",12-LEN($DA5)),$DA5),7,1) +MID(_xlfn.CONCAT(REPT("0",12-LEN($DA5)),$DA5),8,1)*3 +MID(_xlfn.CONCAT(REPT("0",12-LEN($DA5)),$DA5),9,1) +MID(_xlfn.CONCAT(REPT("0",12-LEN($DA5)),$DA5),10,1)*3 +MID(_xlfn.CONCAT(REPT("0",12-LEN($DA5)),$DA5),11,1) +MID(_xlfn.CONCAT(REPT("0",12-LEN($DA5)),$DA5),12,1)*3)))
J6: =IF(LEN($I6)<1,"",RIGHT(10-RIGHT( MID(_xlfn.CONCAT(REPT("0",12-LEN($I6)),$I6),1,1) +MID(_xlfn.CONCAT(REPT("0",12-LEN($I6)),$I6),2,1)*3 +MID(_xlfn.CONCAT(REPT("0",12-LEN($I6)),$I6),3,1) +MID(_xlfn.CONCAT(REPT("0",12-LEN($I6)),$I6),4,1)*3 +MID(_xlfn.CONCAT(REPT("0",12-LEN($I6)),$I6),5,1) +MID(_xlfn.CONCAT(REPT("0",12-LEN($I6)),$I6),6,1)*3 +MID(_xlfn.CONCAT(REPT("0",12-LEN($I6)),$I6),7,1) +MID(_xlfn.CONCAT(REPT("0",12-LEN($I6)),$I6),8,1)*3 +MID(_xlfn.CONCAT(REPT("0",12-LEN($I6)),$I6),9,1) +MID(_xlfn.CONCAT(REPT("0",12-LEN($I6)),$I6),10,1)*3 +MID(_xlfn.CONCAT(REPT("0",12-LEN($I6)),$I6),11,1) +MID(_xlfn.CONCAT(REPT("0",12-LEN($I6)),$I6),12,1)*3))) | M6: =IF(LEN($L6)<1,"",RIGHT(10-RIGHT( MID(_xlfn.CONCAT(REPT("0",12-LEN($L6)),$L6),1,1) +MID(_xlfn.CONCAT(REPT("0",12-LEN($L6)),$L6),2,1)*3 +MID(_xlfn.CONCAT(REPT("0",12-LEN($L6)),$L6),3,1) +MID(_xlfn.CONCAT(REPT("0",12-LEN($L6)),$L6),4,1)*3 +MID(_xlfn.CONCAT(REPT("0",12-LEN($L6)),$L6),5,1) +MID(_xlfn.CONCAT(REPT("0",12-LEN($L6)),$L6),6,1)*3 +MID(_xlfn.CONCAT(REPT("0",12-LEN($L6)),$L6),7,1) +MID(_xlfn.CONCAT(REPT("0",12-LEN($L6)),$L6),8,1)*3 +MID(_xlfn.CONCAT(REPT("0",12-LEN($L6)),$L6),9,1) +MID(_xlfn.CONCAT(REPT("0",12-LEN($L6)),$L6),10,1)*3 +MID(_xlfn.CONCAT(REPT("0",12-LEN($L6)),$L6),11,1) +MID(_xlfn.CONCAT(REPT("0",12-LEN($L6)),$L6),12,1)*3))) | P6: =IF(LEN($O6)<1,"",RIGHT(10-RIGHT( MID(_xlfn.CONCAT(REPT("0",14-LEN($O6)),$O6),1,1) +MID(_xlfn.CONCAT(REPT("0",14-LEN($O6)),$O6),2,1)*3 +MID(_xlfn.CONCAT(REPT("0",14-LEN($O6)),$O6),3,1) +MID(_xlfn.CONCAT(REPT("0",14-LEN($O6)),$O6),4,1)*3 +MID(_xlfn.CONCAT(REPT("0",14-LEN($O6)),$O6),5,1) +MID(_xlfn.CONCAT(REPT("0",14-LEN($O6)),$O6),6,1)*3 +MID(_xlfn.CONCAT(REPT("0",14-LEN($O6)),$O6),7,1) +MID(_xlfn.CONCAT(REPT("0",14-LEN($O6)),$O6),8,1)*3 +MID(_xlfn.CONCAT(REPT("0",14-LEN($O6)),$O6),9,1) +MID(_xlfn.CONCAT(REPT("0",14-LEN($O6)),$O6),10,1)*3 +MID(_xlfn.CONCAT(REPT("0",14-LEN($O6)),$O6),11,1) +MID(_xlfn.CONCAT(REPT("0",14-LEN($O6)),$O6),12,1)*3 +MID(_xlfn.CONCAT(REPT("0",14-LEN($O6)),$O6),13,1) +MID(_xlfn.CONCAT(REPT("0",14-LEN($O6)),$O6),14,1)*3))) | R6: =IF( LEN($Q6)<1, "", RIGHT(10-RIGHT( MID($Q6,1,1)*3 +MID($Q6,2,1) +MID($Q6,3,1)*3 +MID($Q6,4,1) +MID($Q6,5,1)*3 +MID($Q6,6,1) +MID($Q6,7,1)*3 +MID($Q6,8,1) +MID($Q6,9,1)*3 +MID($Q6,10,1) +MID($Q6,11,1)*3 +MID($Q6,12,1) +MID($Q6,13,1)*3,1),1) ) | T6: =IF(LEN(U6)>0,U6,"") | AS6: =IF(LEN($AO6)<1,"",IF(LEN($AP6)<1,"",IF(LEN($AQ6)<1,"",IFERROR(($AO6*$AP6*$AQ6)/1728,"")))) | AY6: =IF(LEN($AX6)<1,"",IF(LEN($AK6)<1,$AX6,IFERROR($AX6/$AK6,""))) | BB6: =IF(LEN($AW6)<1,"",IF(LEN($BA6)<1,"",IFERROR($AW6/(1-$BA6),""))) | BC6: =IF(LEN($AY6)<1,"",IF(LEN($BA6)<1,"",IFERROR($AY6/(1-$BA6),""))) | BF6: {=IF(LEN($BD6)<1,"",IFERROR( _xlfn.SWITCH($BD6, "None","", "OI & Reflect",(($BC6-$BE6)-($AY6-$AZ6))/($BC6-$BE6), "OI",($BC6-($AY6-$AZ6))/($BC6),"Scanback",""),""))} | BR6: =IFERROR(IF(ISBLANK(BP6),((BQ6-AW6)/BQ6),(((BQ6/BP6)-AW6)/(BQ6/BP6))),"") | BS6: {=IFERROR( _xlfn.SWITCH($BD6, 0,IF(ISBLANK($BP6),($BQ6-$BC6)/$BQ6,(($BQ6/$BP6)-$BC6)/($BQ6/$BP6)), "None",IF(ISBLANK($BP6),($BQ6-$BC6)/$BQ6,(($BQ6/$BP6)-$BC6)/($BQ6/$BP6)), "OI & Reflect",IF(ISBLANK($BP6),($BQ6-($BC6-$BE6))/$BQ6,(($BQ6/$BP6)-($BC6-$BE6))/($BQ6/$BP6)), "OI",IF(ISBLANK($BP6),($BQ6-$BC6)/$BQ6,(($BQ6/$BP6)-$BC6)/($BQ6/$BP6)), "Scanback",IF(ISBLANK($BP6),($BQ6-($BC6-$AZ6))/$BQ6,(($BQ6/$BP6)-($BC6-$AZ6))/($BQ6/$BP6))),"")} | CD6: =IF(LEN($BI6)<1,"",IFERROR($BI6,"")) | CF6: =IF(LEN($CD6)<1,"",IFERROR($CD6-$CE6,"")) | DB6: =IF(LEN($DA6)<1,"",RIGHT(10-RIGHT( MID(_xlfn.CONCAT(REPT("0",12-LEN($DA6)),$DA6),1,1) +MID(_xlfn.CONCAT(REPT("0",12-LEN($DA6)),$DA6),2,1)*3 +MID(_xlfn.CONCAT(REPT("0",12-LEN($DA6)),$DA6),3,1) +MID(_xlfn.CONCAT(REPT("0",12-LEN($DA6)),$DA6),4,1)*3 +MID(_xlfn.CONCAT(REPT("0",12-LEN($DA6)),$DA6),5,1) +MID(_xlfn.CONCAT(REPT("0",12-LEN($DA6)),$DA6),6,1)*3 +MID(_xlfn.CONCAT(REPT("0",12-LEN($DA6)),$DA6),7,1) +MID(_xlfn.CONCAT(REPT("0",12-LEN($DA6)),$DA6),8,1)*3 +MID(_xlfn.CONCAT(REPT("0",12-LEN($DA6)),$DA6),9,1) +MID(_xlfn.CONCAT(REPT("0",12-LEN($DA6)),$DA6),10,1)*3 +MID(_xlfn.CONCAT(REPT("0",12-LEN($DA6)),$DA6),11,1) +MID(_xlfn.CONCAT(REPT("0",12-LEN($DA6)),$DA6),12,1)*3)))
J7: =IF(LEN($I7)<1,"",RIGHT(10-RIGHT( MID(_xlfn.CONCAT(REPT("0",12-LEN($I7)),$I7),1,1) +MID(_xlfn.CONCAT(REPT("0",12-LEN($I7)),$I7),2,1)*3 +MID(_xlfn.CONCAT(REPT("0",12-LEN($I7)),$I7),3,1) +MID(_xlfn.CONCAT(REPT("0",12-LEN($I7)),$I7),4,1)*3 +MID(_xlfn.CONCAT(REPT("0",12-LEN($I7)),$I7),5,1) +MID(_xlfn.CONCAT(REPT("0",12-LEN($I7)),$I7),6,1)*3 +MID(_xlfn.CONCAT(REPT("0",12-LEN($I7)),$I7),7,1) +MID(_xlfn.CONCAT(REPT("0",12-LEN($I7)),$I7),8,1)*3 +MID(_xlfn.CONCAT(REPT("0",12-LEN($I7)),$I7),9,1) +MID(_xlfn.CONCAT(REPT("0",12-LEN($I7)),$I7),10,1)*3 +MID(_xlfn.CONCAT(REPT("0",12-LEN($I7)),$I7),11,1) +MID(_xlfn.CONCAT(REPT("0",12-LEN($I7)),$I7),12,1)*3))) | M7: =IF(LEN($L7)<1,"",RIGHT(10-RIGHT( MID(_xlfn.CONCAT(REPT("0",12-LEN($L7)),$L7),1,1) +MID(_xlfn.CONCAT(REPT("0",12-LEN($L7)),$L7),2,1)*3 +MID(_xlfn.CONCAT(REPT("0",12-LEN($L7)),$L7),3,1) +MID(_xlfn.CONCAT(REPT("0",12-LEN($L7)),$L7),4,1)*3 +MID(_xlfn.CONCAT(REPT("0",12-LEN($L7)),$L7),5,1) +MID(_xlfn.CONCAT(REPT("0",12-LEN($L7)),$L7),6,1)*3 +MID(_xlfn.CONCAT(REPT("0",12-LEN($L7)),$L7),7,1) +MID(_xlfn.CONCAT(REPT("0",12-LEN($L7)),$L7),8,1)*3 +MID(_xlfn.CONCAT(REPT("0",12-LEN($L7)),$L7),9,1) +MID(_xlfn.CONCAT(REPT("0",12-LEN($L7)),$L7),10,1)*3 +MID(_xlfn.CONCAT(REPT("0",12-LEN($L7)),$L7),11,1) +MID(_xlfn.CONCAT(REPT("0",12-LEN($L7)),$L7),12,1)*3))) | P7: =IF(LEN($O7)<1,"",RIGHT(10-RIGHT( MID(_xlfn.CONCAT(REPT("0",14-LEN($O7)),$O7),1,1) +MID(_xlfn.CONCAT(REPT("0",14-LEN($O7)),$O7),2,1)*3 +MID(_xlfn.CONCAT(REPT("0",14-LEN($O7)),$O7),3,1) +MID(_xlfn.CONCAT(REPT("0",14-LEN($O7)),$O7),4,1)*3 +MID(_xlfn.CONCAT(REPT("0",14-LEN($O7)),$O7),5,1) +MID(_xlfn.CONCAT(REPT("0",14-LEN($O7)),$O7),6,1)*3 +MID(_xlfn.CONCAT(REPT("0",14-LEN($O7)),$O7),7,1) +MID(_xlfn.CONCAT(REPT("0",14-LEN($O7)),$O7),8,1)*3 +MID(_xlfn.CONCAT(REPT("0",14-LEN($O7)),$O7),9,1) +MID(_xlfn.CONCAT(REPT("0",14-LEN($O7)),$O7),10,1)*3 +MID(_xlfn.CONCAT(REPT("0",14-LEN($O7)),$O7),11,1) +MID(_xlfn.CONCAT(REPT("0",14-LEN($O7)),$O7),12,1)*3 +MID(_xlfn.CONCAT(REPT("0",14-LEN($O7)),$O7),13,1) +MID(_xlfn.CONCAT(REPT("0",14-LEN($O7)),$O7),14,1)*3))) | R7: =IF( LEN($Q7)<1, "", RIGHT(10-RIGHT( MID($Q7,1,1)*3 +MID($Q7,2,1) +MID($Q7,3,1)*3 +MID($Q7,4,1) +MID($Q7,5,1)*3 +MID($Q7,6,1) +MID($Q7,7,1)*3 +MID($Q7,8,1) +MID($Q7,9,1)*3 +MID($Q7,10,1) +MID($Q7,11,1)*3 +MID($Q7,12,1) +MID($Q7,13,1)*3,1),1) ) | T7: =IF(LEN(U7)>0,U7,"") | AS7: =IF(LEN($AO7)<1,"",IF(LEN($AP7)<1,"",IF(LEN($AQ7)<1,"",IFERROR(($AO7*$AP7*$AQ7)/1728,"")))) | AY7: =IF(LEN($AX7)<1,"",IF(LEN($AK7)<1,$AX7,IFERROR($AX7/$AK7,""))) | BB7: =IF(LEN($AW7)<1,"",IF(LEN($BA7)<1,"",IFERROR($AW7/(1-$BA7),""))) | BC7: =IF(LEN($AY7)<1,"",IF(LEN($BA7)<1,"",IFERROR($AY7/(1-$BA7),""))) | BF7: {=IF(LEN($BD7)<1,"",IFERROR( _xlfn.SWITCH($BD7, "None","", "OI & Reflect",(($BC7-$BE7)-($AY7-$AZ7))/($BC7-$BE7), "OI",($BC7-($AY7-$AZ7))/($BC7),"Scanback",""),""))} | BR7: =IFERROR(IF(ISBLANK(BP7),((BQ7-AW7)/BQ7),(((BQ7/BP7)-AW7)/(BQ7/BP7))),"") | BS7: {=IFERROR( _xlfn.SWITCH($BD7, 0,IF(ISBLANK($BP7),($BQ7-$BC7)/$BQ7,(($BQ7/$BP7)-$BC7)/($BQ7/$BP7)), "None",IF(ISBLANK($BP7),($BQ7-$BC7)/$BQ7,(($BQ7/$BP7)-$BC7)/($BQ7/$BP7)), "OI & Reflect",IF(ISBLANK($BP7),($BQ7-($BC7-$BE7))/$BQ7,(($BQ7/$BP7)-($BC7-$BE7))/($BQ7/$BP7)), "OI",IF(ISBLANK($BP7),($BQ7-$BC7)/$BQ7,(($BQ7/$BP7)-$BC7)/($BQ7/$BP7)), "Scanback",IF(ISBLANK($BP7),($BQ7-($BC7-$AZ7))/$BQ7,(($BQ7/$BP7)-($BC7-$AZ7))/($BQ7/$BP7))),"")} | CD7: =IF(LEN($BI7)<1,"",IFERROR($BI7,"")) | CF7: =IF(LEN($CD7)<1,"",IFERROR($CD7-$CE7,"")) | DB7: =IF(LEN($DA7)<1,"",RIGHT(10-RIGHT( MID(_xlfn.CONCAT(REPT("0",12-LEN($DA7)),$DA7),1,1) +MID(_xlfn.CONCAT(REPT("0",12-LEN($DA7)),$DA7),2,1)*3 +MID(_xlfn.CONCAT(REPT("0",12-LEN($DA7)),$DA7),3,1) +MID(_xlfn.CONCAT(REPT("0",12-LEN($DA7)),$DA7),4,1)*3 +MID(_xlfn.CONCAT(REPT("0",12-LEN($DA7)),$DA7),5,1) +MID(_xlfn.CONCAT(REPT("0",12-LEN($DA7)),$DA7),6,1)*3 +MID(_xlfn.CONCAT(REPT("0",12-LEN($DA7)),$DA7),7,1) +MID(_xlfn.CONCAT(REPT("0",12-LEN($DA7)),$DA7),8,1)*3 +MID(_xlfn.CONCAT(REPT("0",12-LEN($DA7)),$DA7),9,1) +MID(_xlfn.CONCAT(REPT("0",12-LEN($DA7)),$DA7),10,1)*3 +MID(_xlfn.CONCAT(REPT("0",12-LEN($DA7)),$DA7),11,1) +MID(_xlfn.CONCAT(REPT("0",12-LEN($DA7)),$DA7),12,1)*3)))
J8: =IF(LEN($I8)<1,"",RIGHT(10-RIGHT( MID(_xlfn.CONCAT(REPT("0",12-LEN($I8)),$I8),1,1) +MID(_xlfn.CONCAT(REPT("0",12-LEN($I8)),$I8),2,1)*3 +MID(_xlfn.CONCAT(REPT("0",12-LEN($I8)),$I8),3,1) +MID(_xlfn.CONCAT(REPT("0",12-LEN($I8)),$I8),4,1)*3 +MID(_xlfn.CONCAT(REPT("0",12-LEN($I8)),$I8),5,1) +MID(_xlfn.CONCAT(REPT("0",12-LEN($I8)),$I8),6,1)*3 +MID(_xlfn.CONCAT(REPT("0",12-LEN($I8)),$I8),7,1) +MID(_xlfn.CONCAT(REPT("0",12-LEN($I8)),$I8),8,1)*3 +MID(_xlfn.CONCAT(REPT("0",12-LEN($I8)),$I8),9,1) +MID(_xlfn.CONCAT(REPT("0",12-LEN($I8)),$I8),10,1)*3 +MID(_xlfn.CONCAT(REPT("0",12-LEN($I8)),$I8),11,1) +MID(_xlfn.CONCAT(REPT("0",12-LEN($I8)),$I8),12,1)*3))) | M8: =IF(LEN($L8)<1,"",RIGHT(10-RIGHT( MID(_xlfn.CONCAT(REPT("0",12-LEN($L8)),$L8),1,1) +MID(_xlfn.CONCAT(REPT("0",12-LEN($L8)),$L8),2,1)*3 +MID(_xlfn.CONCAT(REPT("0",12-LEN($L8)),$L8),3,1) +MID(_xlfn.CONCAT(REPT("0",12-LEN($L8)),$L8),4,1)*3 +MID(_xlfn.CONCAT(REPT("0",12-LEN($L8)),$L8),5,1) +MID(_xlfn.CONCAT(REPT("0",12-LEN($L8)),$L8),6,1)*3 +MID(_xlfn.CONCAT(REPT("0",12-LEN($L8)),$L8),7,1) +MID(_xlfn.CONCAT(REPT("0",12-LEN($L8)),$L8),8,1)*3 +MID(_xlfn.CONCAT(REPT("0",12-LEN($L8)),$L8),9,1) +MID(_xlfn.CONCAT(REPT("0",12-LEN($L8)),$L8),10,1)*3 +MID(_xlfn.CONCAT(REPT("0",12-LEN($L8)),$L8),11,1) +MID(_xlfn.CONCAT(REPT("0",12-LEN($L8)),$L8),12,1)*3))) | P8: =IF(LEN($O8)<1,"",RIGHT(10-RIGHT( MID(_xlfn.CONCAT(REPT("0",14-LEN($O8)),$O8),1,1) +MID(_xlfn.CONCAT(REPT("0",14-LEN($O8)),$O8),2,1)*3 +MID(_xlfn.CONCAT(REPT("0",14-LEN($O8)),$O8),3,1) +MID(_xlfn.CONCAT(REPT("0",14-LEN($O8)),$O8),4,1)*3 +MID(_xlfn.CONCAT(REPT("0",14-LEN($O8)),$O8),5,1) +MID(_xlfn.CONCAT(REPT("0",14-LEN($O8)),$O8),6,1)*3 +MID(_xlfn.CONCAT(REPT("0",14-LEN($O8)),$O8),7,1) +MID(_xlfn.CONCAT(REPT("0",14-LEN($O8)),$O8),8,1)*3 +MID(_xlfn.CONCAT(REPT("0",14-LEN($O8)),$O8),9,1) +MID(_xlfn.CONCAT(REPT("0",14-LEN($O8)),$O8),10,1)*3 +MID(_xlfn.CONCAT(REPT("0",14-LEN($O8)),$O8),11,1) +MID(_xlfn.CONCAT(REPT("0",14-LEN($O8)),$O8),12,1)*3 +MID(_xlfn.CONCAT(REPT("0",14-LEN($O8)),$O8),13,1) +MID(_xlfn.CONCAT(REPT("0",14-LEN($O8)),$O8),14,1)*3))) | R8: =IF( LEN($Q8)<1, "", RIGHT(10-RIGHT( MID($Q8,1,1)*3 +MID($Q8,2,1) +MID($Q8,3,1)*3 +MID($Q8,4,1) +MID($Q8,5,1)*3 +MID($Q8,6,1) +MID($Q8,7,1)*3 +MID($Q8,8,1) +MID($Q8,9,1)*3 +MID($Q8,10,1) +MID($Q8,11,1)*3 +MID($Q8,12,1) +MID($Q8,13,1)*3,1),1) ) | T8: =IF(LEN(U8)>0,U8,"") | AS8: =IF(LEN($AO8)<1,"",IF(LEN($AP8)<1,"",IF(LEN($AQ8)<1,"",IFERROR(($AO8*$AP8*$AQ8)/1728,"")))) | AY8: =IF(LEN($AX8)<1,"",IF(LEN($AK8)<1,$AX8,IFERROR($AX8/$AK8,""))) | BB8: =IF(LEN($AW8)<1,"",IF(LEN($BA8)<1,"",IFERROR($AW8/(1-$BA8),""))) | BC8: =IF(LEN($AY8)<1,"",IF(LEN($BA8)<1,"",IFERROR($AY8/(1-$BA8),""))) | BF8: {=IF(LEN($BD8)<1,"",IFERROR( _xlfn.SWITCH($BD8, "None","", "OI & Reflect",(($BC8-$BE8)-($AY8-$AZ8))/($BC8-$BE8), "OI",($BC8-($AY8-$AZ8))/($BC8),"Scanback",""),""))} | BR8: =IFERROR(IF(ISBLANK(BP8),((BQ8-AW8)/BQ8),(((BQ8/BP8)-AW8)/(BQ8/BP8))),"") | BS8: {=IFERROR( _xlfn.SWITCH($BD8, 0,IF(ISBLANK($BP8),($BQ8-$BC8)/$BQ8,(($BQ8/$BP8)-$BC8)/($BQ8/$BP8)), "None",IF(ISBLANK($BP8),($BQ8-$BC8)/$BQ8,(($BQ8/$BP8)-$BC8)/($BQ8/$BP8)), "OI & Reflect",IF(ISBLANK($BP8),($BQ8-($BC8-$BE8))/$BQ8,(($BQ8/$BP8)-($BC8-$BE8))/($BQ8/$BP8)), "OI",IF(ISBLANK($BP8),($BQ8-$BC8)/$BQ8,(($BQ8/$BP8)-$BC8)/($BQ8/$BP8)), "Scanback",IF(ISBLANK($BP8),($BQ8-($BC8-$AZ8))/$BQ8,(($BQ8/$BP8)-($BC8-$AZ8))/($BQ8/$BP8))),"")} | CD8: =IF(LEN($BI8)<1,"",IFERROR($BI8,"")) | CF8: =IF(LEN($CD8)<1,"",IFERROR($CD8-$CE8,"")) | DB8: =IF(LEN($DA8)<1,"",RIGHT(10-RIGHT( MID(_xlfn.CONCAT(REPT("0",12-LEN($DA8)),$DA8),1,1) +MID(_xlfn.CONCAT(REPT("0",12-LEN($DA8)),$DA8),2,1)*3 +MID(_xlfn.CONCAT(REPT("0",12-LEN($DA8)),$DA8),3,1) +MID(_xlfn.CONCAT(REPT("0",12-LEN($DA8)),$DA8),4,1)*3 +MID(_xlfn.CONCAT(REPT("0",12-LEN($DA8)),$DA8),5,1) +MID(_xlfn.CONCAT(REPT("0",12-LEN($DA8)),$DA8),6,1)*3 +MID(_xlfn.CONCAT(REPT("0",12-LEN($DA8)),$DA8),7,1) +MID(_xlfn.CONCAT(REPT("0",12-LEN($DA8)),$DA8),8,1)*3 +MID(_xlfn.CONCAT(REPT("0",12-LEN($DA8)),$DA8),9,1) +MID(_xlfn.CONCAT(REPT("0",12-LEN($DA8)),$DA8),10,1)*3 +MID(_xlfn.CONCAT(REPT("0",12-LEN($DA8)),$DA8),11,1) +MID(_xlfn.CONCAT(REPT("0",12-LEN($DA8)),$DA8),12,1)*3)))
J9: =IF(LEN($I9)<1,"",RIGHT(10-RIGHT( MID(_xlfn.CONCAT(REPT("0",12-LEN($I9)),$I9),1,1) +MID(_xlfn.CONCAT(REPT("0",12-LEN($I9)),$I9),2,1)*3 +MID(_xlfn.CONCAT(REPT("0",12-LEN($I9)),$I9),3,1) +MID(_xlfn.CONCAT(REPT("0",12-LEN($I9)),$I9),4,1)*3 +MID(_xlfn.CONCAT(REPT("0",12-LEN($I9)),$I9),5,1) +MID(_xlfn.CONCAT(REPT("0",12-LEN($I9)),$I9),6,1)*3 +MID(_xlfn.CONCAT(REPT("0",12-LEN($I9)),$I9),7,1) +MID(_xlfn.CONCAT(REPT("0",12-LEN($I9)),$I9),8,1)*3 +MID(_xlfn.CONCAT(REPT("0",12-LEN($I9)),$I9),9,1) +MID(_xlfn.CONCAT(REPT("0",12-LEN($I9)),$I9),10,1)*3 +MID(_xlfn.CONCAT(REPT("0",12-LEN($I9)),$I9),11,1) +MID(_xlfn.CONCAT(REPT("0",12-LEN($I9)),$I9),12,1)*3))) | M9: =IF(LEN($L9)<1,"",RIGHT(10-RIGHT( MID(_xlfn.CONCAT(REPT("0",12-LEN($L9)),$L9),1,1) +MID(_xlfn.CONCAT(REPT("0",12-LEN($L9)),$L9),2,1)*3 +MID(_xlfn.CONCAT(REPT("0",12-LEN($L9)),$L9),3,1) +MID(_xlfn.CONCAT(REPT("0",12-LEN($L9)),$L9),4,1)*3 +MID(_xlfn.CONCAT(REPT("0",12-LEN($L9)),$L9),5,1) +MID(_xlfn.CONCAT(REPT("0",12-LEN($L9)),$L9),6,1)*3 +MID(_xlfn.CONCAT(REPT("0",12-LEN($L9)),$L9),7,1) +MID(_xlfn.CONCAT(REPT("0",12-LEN($L9)),$L9),8,1)*3 +MID(_xlfn.CONCAT(REPT("0",12-LEN($L9)),$L9),9,1) +MID(_xlfn.CONCAT(REPT("0",12-LEN($L9)),$L9),10,1)*3 +MID(_xlfn.CONCAT(REPT("0",12-LEN($L9)),$L9),11,1) +MID(_xlfn.CONCAT(REPT("0",12-LEN($L9)),$L9),12,1)*3))) | P9: =IF(LEN($O9)<1,"",RIGHT(10-RIGHT( MID(_xlfn.CONCAT(REPT("0",14-LEN($O9)),$O9),1,1) +MID(_xlfn.CONCAT(REPT("0",14-LEN($O9)),$O9),2,1)*3 +MID(_xlfn.CONCAT(REPT("0",14-LEN($O9)),$O9),3,1) +MID(_xlfn.CONCAT(REPT("0",14-LEN($O9)),$O9),4,1)*3 +MID(_xlfn.CONCAT(REPT("0",14-LEN($O9)),$O9),5,1) +MID(_xlfn.CONCAT(REPT("0",14-LEN($O9)),$O9),6,1)*3 +MID(_xlfn.CONCAT(REPT("0",14-LEN($O9)),$O9),7,1) +MID(_xlfn.CONCAT(REPT("0",14-LEN($O9)),$O9),8,1)*3 +MID(_xlfn.CONCAT(REPT("0",14-LEN($O9)),$O9),9,1) +MID(_xlfn.CONCAT(REPT("0",14-LEN($O9)),$O9),10,1)*3 +MID(_xlfn.CONCAT(REPT("0",14-LEN($O9)),$O9),11,1) +MID(_xlfn.CONCAT(REPT("0",14-LEN($O9)),$O9),12,1)*3 +MID(_xlfn.CONCAT(REPT("0",14-LEN($O9)),$O9),13,1) +MID(_xlfn.CONCAT(REPT("0",14-LEN($O9)),$O9),14,1)*3))) | R9: =IF( LEN($Q9)<1, "", RIGHT(10-RIGHT( MID($Q9,1,1)*3 +MID($Q9,2,1) +MID($Q9,3,1)*3 +MID($Q9,4,1) +MID($Q9,5,1)*3 +MID($Q9,6,1) +MID($Q9,7,1)*3 +MID($Q9,8,1) +MID($Q9,9,1)*3 +MID($Q9,10,1) +MID($Q9,11,1)*3 +MID($Q9,12,1) +MID($Q9,13,1)*3,1),1) ) | T9: =IF(LEN(U9)>0,U9,"") | AS9: =IF(LEN($AO9)<1,"",IF(LEN($AP9)<1,"",IF(LEN($AQ9)<1,"",IFERROR(($AO9*$AP9*$AQ9)/1728,"")))) | AY9: =IF(LEN($AX9)<1,"",IF(LEN($AK9)<1,$AX9,IFERROR($AX9/$AK9,""))) | BB9: =IF(LEN($AW9)<1,"",IF(LEN($BA9)<1,"",IFERROR($AW9/(1-$BA9),""))) | BC9: =IF(LEN($AY9)<1,"",IF(LEN($BA9)<1,"",IFERROR($AY9/(1-$BA9),""))) | BF9: {=IF(LEN($BD9)<1,"",IFERROR( _xlfn.SWITCH($BD9, "None","", "OI & Reflect",(($BC9-$BE9)-($AY9-$AZ9))/($BC9-$BE9), "OI",($BC9-($AY9-$AZ9))/($BC9),"Scanback",""),""))} | BR9: =IFERROR(IF(ISBLANK(BP9),((BQ9-AW9)/BQ9),(((BQ9/BP9)-AW9)/(BQ9/BP9))),"") | BS9: {=IFERROR( _xlfn.SWITCH($BD9, 0,IF(ISBLANK($BP9),($BQ9-$BC9)/$BQ9,(($BQ9/$BP9)-$BC9)/($BQ9/$BP9)), "None",IF(ISBLANK($BP9),($BQ9-$BC9)/$BQ9,(($BQ9/$BP9)-$BC9)/($BQ9/$BP9)), "OI & Reflect",IF(ISBLANK($BP9),($BQ9-($BC9-$BE9))/$BQ9,(($BQ9/$BP9)-($BC9-$BE9))/($BQ9/$BP9)), "OI",IF(ISBLANK($BP9),($BQ9-$BC9)/$BQ9,(($BQ9/$BP9)-$BC9)/($BQ9/$BP9)), "Scanback",IF(ISBLANK($BP9),($BQ9-($BC9-$AZ9))/$BQ9,(($BQ9/$BP9)-($BC9-$AZ9))/($BQ9/$BP9))),"")} | CD9: =IF(LEN($BI9)<1,"",IFERROR($BI9,"")) | CF9: =IF(LEN($CD9)<1,"",IFERROR($CD9-$CE9,"")) | DB9: =IF(LEN($DA9)<1,"",RIGHT(10-RIGHT( MID(_xlfn.CONCAT(REPT("0",12-LEN($DA9)),$DA9),1,1) +MID(_xlfn.CONCAT(REPT("0",12-LEN($DA9)),$DA9),2,1)*3 +MID(_xlfn.CONCAT(REPT("0",12-LEN($DA9)),$DA9),3,1) +MID(_xlfn.CONCAT(REPT("0",12-LEN($DA9)),$DA9),4,1)*3 +MID(_xlfn.CONCAT(REPT("0",12-LEN($DA9)),$DA9),5,1) +MID(_xlfn.CONCAT(REPT("0",12-LEN($DA9)),$DA9),6,1)*3 +MID(_xlfn.CONCAT(REPT("0",12-LEN($DA9)),$DA9),7,1) +MID(_xlfn.CONCAT(REPT("0",12-LEN($DA9)),$DA9),8,1)*3 +MID(_xlfn.CONCAT(REPT("0",12-LEN($DA9)),$DA9),9,1) +MID(_xlfn.CONCAT(REPT("0",12-LEN($DA9)),$DA9),10,1)*3 +MID(_xlfn.CONCAT(REPT("0",12-LEN($DA9)),$DA9),11,1) +MID(_xlfn.CONCAT(REPT("0",12-LEN($DA9)),$DA9),12,1)*3)))
J10: =IF(LEN($I10)<1,"",RIGHT(10-RIGHT( MID(_xlfn.CONCAT(REPT("0",12-LEN($I10)),$I10),1,1) +MID(_xlfn.CONCAT(REPT("0",12-LEN($I10)),$I10),2,1)*3 +MID(_xlfn.CONCAT(REPT("0",12-LEN($I10)),$I10),3,1) +MID(_xlfn.CONCAT(REPT("0",12-LEN($I10)),$I10),4,1)*3 +MID(_xlfn.CONCAT(REPT("0",12-LEN($I10)),$I10),5,1) +MID(_xlfn.CONCAT(REPT("0",12-LEN($I10)),$I10),6,1)*3 +MID(_xlfn.CONCAT(REPT("0",12-LEN($I10)),$I10),7,1) +MID(_xlfn.CONCAT(REPT("0",12-LEN($I10)),$I10),8,1)*3 +MID(_xlfn.CONCAT(REPT("0",12-LEN($I10)),$I10),9,1) +MID(_xlfn.CONCAT(REPT("0",12-LEN($I10)),$I10),10,1)*3 +MID(_xlfn.CONCAT(REPT("0",12-LEN($I10)),$I10),11,1) +MID(_xlfn.CONCAT(REPT("0",12-LEN($I10)),$I10),12,1)*3))) | M10: =IF(LEN($L10)<1,"",RIGHT(10-RIGHT( MID(_xlfn.CONCAT(REPT("0",12-LEN($L10)),$L10),1,1) +MID(_xlfn.CONCAT(REPT("0",12-LEN($L10)),$L10),2,1)*3 +MID(_xlfn.CONCAT(REPT("0",12-LEN($L10)),$L10),3,1) +MID(_xlfn.CONCAT(REPT("0",12-LEN($L10)),$L10),4,1)*3 +MID(_xlfn.CONCAT(REPT("0",12-LEN($L10)),$L10),5,1) +MID(_xlfn.CONCAT(REPT("0",12-LEN($L10)),$L10),6,1)*3 +MID(_xlfn.CONCAT(REPT("0",12-LEN($L10)),$L10),7,1) +MID(_xlfn.CONCAT(REPT("0",12-LEN($L10)),$L10),8,1)*3 +MID(_xlfn.CONCAT(REPT("0",12-LEN($L10)),$L10),9,1) +MID(_xlfn.CONCAT(REPT("0",12-LEN($L10)),$L10),10,1)*3 +MID(_xlfn.CONCAT(REPT("0",12-LEN($L10)),$L10),11,1) +MID(_xlfn.CONCAT(REPT("0",12-LEN($L10)),$L10),12,1)*3))) | P10: =IF(LEN($O10)<1,"",RIGHT(10-RIGHT( MID(_xlfn.CONCAT(REPT("0",14-LEN($O10)),$O10),1,1) +MID(_xlfn.CONCAT(REPT("0",14-LEN($O10)),$O10),2,1)*3 +MID(_xlfn.CONCAT(REPT("0",14-LEN($O10)),$O10),3,1) +MID(_xlfn.CONCAT(REPT("0",14-LEN($O10)),$O10),4,1)*3 +MID(_xlfn.CONCAT(REPT("0",14-LEN($O10)),$O10),5,1) +MID(_xlfn.CONCAT(REPT("0",14-LEN($O10)),$O10),6,1)*3 +MID(_xlfn.CONCAT(REPT("0",14-LEN($O10)),$O10),7,1) +MID(_xlfn.CONCAT(REPT("0",14-LEN($O10)),$O10),8,1)*3 +MID(_xlfn.CONCAT(REPT("0",14-LEN($O10)),$O10),9,1) +MID(_xlfn.CONCAT(REPT("0",14-LEN($O10)),$O10),10,1)*3 +MID(_xlfn.CONCAT(REPT("0",14-LEN($O10)),$O10),11,1) +MID(_xlfn.CONCAT(REPT("0",14-LEN($O10)),$O10),12,1)*3 +MID(_xlfn.CONCAT(REPT("0",14-LEN($O10)),$O10),13,1) +MID(_xlfn.CONCAT(REPT("0",14-LEN($O10)),$O10),14,1)*3))) | R10: =IF( LEN($Q10)<1, "", RIGHT(10-RIGHT( MID($Q10,1,1)*3 +MID($Q10,2,1) +MID($Q10,3,1)*3 +MID($Q10,4,1) +MID($Q10,5,1)*3 +MID($Q10,6,1) +MID($Q10,7,1)*3 +MID($Q10,8,1) +MID($Q10,9,1)*3 +MID($Q10,10,1) +MID($Q10,11,1)*3 +MID($Q10,12,1) +MID($Q10,13,1)*3,1),1) ) | T10: =IF(LEN(U10)>0,U10,"") | AS10: =IF(LEN($AO10)<1,"",IF(LEN($AP10)<1,"",IF(LEN($AQ10)<1,"",IFERROR(($AO10*$AP10*$AQ10)/1728,"")))) | AY10: =IF(LEN($AX10)<1,"",IF(LEN($AK10)<1,$AX10,IFERROR($AX10/$AK10,""))) | BB10: =IF(LEN($AW10)<1,"",IF(LEN($BA10)<1,"",IFERROR($AW10/(1-$BA10),""))) | BC10: =IF(LEN($AY10)<1,"",IF(LEN($BA10)<1,"",IFERROR($AY10/(1-$BA10),""))) | BF10: {=IF(LEN($BD10)<1,"",IFERROR( _xlfn.SWITCH($BD10, "None","", "OI & Reflect",(($BC10-$BE10)-($AY10-$AZ10))/($BC10-$BE10), "OI",($BC10-($AY10-$AZ10))/($BC10),"Scanback",""),""))} | BR10: =IFERROR(IF(ISBLANK(BP10),((BQ10-AW10)/BQ10),(((BQ10/BP10)-AW10)/(BQ10/BP10))),"") | BS10: {=IFERROR( _xlfn.SWITCH($BD10, 0,IF(ISBLANK($BP10),($BQ10-$BC10)/$BQ10,(($BQ10/$BP10)-$BC10)/($BQ10/$BP10)), "None",IF(ISBLANK($BP10),($BQ10-$BC10)/$BQ10,(($BQ10/$BP10)-$BC10)/($BQ10/$BP10)), "OI & Reflect",IF(ISBLANK($BP10),($BQ10-($BC10-$BE10))/$BQ10,(($BQ10/$BP10)-($BC10-$BE10))/($BQ10/$BP10)), "OI",IF(ISBLANK($BP10),($BQ10-$BC10)/$BQ10,(($BQ10/$BP10)-$BC10)/($BQ10/$BP10)), "Scanback",IF(ISBLANK($BP10),($BQ10-($BC10-$AZ10))/$BQ10,(($BQ10/$BP10)-($BC10-$AZ10))/($BQ10/$BP10))),"")} | CD10: =IF(LEN($BI10)<1,"",IFERROR($BI10,"")) | CF10: =IF(LEN($CD10)<1,"",IFERROR($CD10-$CE10,"")) | DB10: =IF(LEN($DA10)<1,"",RIGHT(10-RIGHT( MID(_xlfn.CONCAT(REPT("0",12-LEN($DA10)),$DA10),1,1) +MID(_xlfn.CONCAT(REPT("0",12-LEN($DA10)),$DA10),2,1)*3 +MID(_xlfn.CONCAT(REPT("0",12-LEN($DA10)),$DA10),3,1) +MID(_xlfn.CONCAT(REPT("0",12-LEN($DA10)),$DA10),4,1)*3 +MID(_xlfn.CONCAT(REPT("0",12-LEN($DA10)),$DA10),5,1) +MID(_xlfn.CONCAT(REPT("0",12-LEN($DA10)),$DA10),6,1)*3 +MID(_xlfn.CONCAT(REPT("0",12-LEN($DA10)),$DA10),7,1) +MID(_xlfn.CONCAT(REPT("0",12-LEN($DA10)),$DA10),8,1)*3 +MID(_xlfn.CONCAT(REPT("0",12-LEN($DA10)),$DA10),9,1) +MID(_xlfn.CONCAT(REPT("0",12-LEN($DA10)),$DA10),10,1)*3 +MID(_xlfn.CONCAT(REPT("0",12-LEN($DA10)),$DA10),11,1) +MID(_xlfn.CONCAT(REPT("0",12-LEN($DA10)),$DA10),12,1)*3)))
J11: =IF(LEN($I11)<1,"",RIGHT(10-RIGHT( MID(_xlfn.CONCAT(REPT("0",12-LEN($I11)),$I11),1,1) +MID(_xlfn.CONCAT(REPT("0",12-LEN($I11)),$I11),2,1)*3 +MID(_xlfn.CONCAT(REPT("0",12-LEN($I11)),$I11),3,1) +MID(_xlfn.CONCAT(REPT("0",12-LEN($I11)),$I11),4,1)*3 +MID(_xlfn.CONCAT(REPT("0",12-LEN($I11)),$I11),5,1) +MID(_xlfn.CONCAT(REPT("0",12-LEN($I11)),$I11),6,1)*3 +MID(_xlfn.CONCAT(REPT("0",12-LEN($I11)),$I11),7,1) +MID(_xlfn.CONCAT(REPT("0",12-LEN($I11)),$I11),8,1)*3 +MID(_xlfn.CONCAT(REPT("0",12-LEN($I11)),$I11),9,1) +MID(_xlfn.CONCAT(REPT("0",12-LEN($I11)),$I11),10,1)*3 +MID(_xlfn.CONCAT(REPT("0",12-LEN($I11)),$I11),11,1) +MID(_xlfn.CONCAT(REPT("0",12-LEN($I11)),$I11),12,1)*3))) | M11: =IF(LEN($L11)<1,"",RIGHT(10-RIGHT( MID(_xlfn.CONCAT(REPT("0",12-LEN($L11)),$L11),1,1) +MID(_xlfn.CONCAT(REPT("0",12-LEN($L11)),$L11),2,1)*3 +MID(_xlfn.CONCAT(REPT("0",12-LEN($L11)),$L11),3,1) +MID(_xlfn.CONCAT(REPT("0",12-LEN($L11)),$L11),4,1)*3 +MID(_xlfn.CONCAT(REPT("0",12-LEN($L11)),$L11),5,1) +MID(_xlfn.CONCAT(REPT("0",12-LEN($L11)),$L11),6,1)*3 +MID(_xlfn.CONCAT(REPT("0",12-LEN($L11)),$L11),7,1) +MID(_xlfn.CONCAT(REPT("0",12-LEN($L11)),$L11),8,1)*3 +MID(_xlfn.CONCAT(REPT("0",12-LEN($L11)),$L11),9,1) +MID(_xlfn.CONCAT(REPT("0",12-LEN($L11)),$L11),10,1)*3 +MID(_xlfn.CONCAT(REPT("0",12-LEN($L11)),$L11),11,1) +MID(_xlfn.CONCAT(REPT("0",12-LEN($L11)),$L11),12,1)*3))) | P11: =IF(LEN($O11)<1,"",RIGHT(10-RIGHT( MID(_xlfn.CONCAT(REPT("0",14-LEN($O11)),$O11),1,1) +MID(_xlfn.CONCAT(REPT("0",14-LEN($O11)),$O11),2,1)*3 +MID(_xlfn.CONCAT(REPT("0",14-LEN($O11)),$O11),3,1) +MID(_xlfn.CONCAT(REPT("0",14-LEN($O11)),$O11),4,1)*3 +MID(_xlfn.CONCAT(REPT("0",14-LEN($O11)),$O11),5,1) +MID(_xlfn.CONCAT(REPT("0",14-LEN($O11)),$O11),6,1)*3 +MID(_xlfn.CONCAT(REPT("0",14-LEN($O11)),$O11),7,1) +MID(_xlfn.CONCAT(REPT("0",14-LEN($O11)),$O11),8,1)*3 +MID(_xlfn.CONCAT(REPT("0",14-LEN($O11)),$O11),9,1) +MID(_xlfn.CONCAT(REPT("0",14-LEN($O11)),$O11),10,1)*3 +MID(_xlfn.CONCAT(REPT("0",14-LEN($O11)),$O11),11,1) +MID(_xlfn.CONCAT(REPT("0",14-LEN($O11)),$O11),12,1)*3 +MID(_xlfn.CONCAT(REPT("0",14-LEN($O11)),$O11),13,1) +MID(_xlfn.CONCAT(REPT("0",14-LEN($O11)),$O11),14,1)*3))) | R11: =IF( LEN($Q11)<1, "", RIGHT(10-RIGHT( MID($Q11,1,1)*3 +MID($Q11,2,1) +MID($Q11,3,1)*3 +MID($Q11,4,1) +MID($Q11,5,1)*3 +MID($Q11,6,1) +MID($Q11,7,1)*3 +MID($Q11,8,1) +MID($Q11,9,1)*3 +MID($Q11,10,1) +MID($Q11,11,1)*3 +MID($Q11,12,1) +MID($Q11,13,1)*3,1),1) ) | T11: =IF(LEN(U11)>0,U11,"") | AS11: =IF(LEN($AO11)<1,"",IF(LEN($AP11)<1,"",IF(LEN($AQ11)<1,"",IFERROR(($AO11*$AP11*$AQ11)/1728,"")))) | AY11: =IF(LEN($AX11)<1,"",IF(LEN($AK11)<1,$AX11,IFERROR($AX11/$AK11,""))) | BB11: =IF(LEN($AW11)<1,"",IF(LEN($BA11)<1,"",IFERROR($AW11/(1-$BA11),""))) | BC11: =IF(LEN($AY11)<1,"",IF(LEN($BA11)<1,"",IFERROR($AY11/(1-$BA11),""))) | BF11: {=IF(LEN($BD11)<1,"",IFERROR( _xlfn.SWITCH($BD11, "None","", "OI & Reflect",(($BC11-$BE11)-($AY11-$AZ11))/($BC11-$BE11), "OI",($BC11-($AY11-$AZ11))/($BC11),"Scanback",""),""))} | BR11: =IFERROR(IF(ISBLANK(BP11),((BQ11-AW11)/BQ11),(((BQ11/BP11)-AW11)/(BQ11/BP11))),"") | BS11: {=IFERROR( _xlfn.SWITCH($BD11, 0,IF(ISBLANK($BP11),($BQ11-$BC11)/$BQ11,(($BQ11/$BP11)-$BC11)/($BQ11/$BP11)), "None",IF(ISBLANK($BP11),($BQ11-$BC11)/$BQ11,(($BQ11/$BP11)-$BC11)/($BQ11/$BP11)), "OI & Reflect",IF(ISBLANK($BP11),($BQ11-($BC11-$BE11))/$BQ11,(($BQ11/$BP11)-($BC11-$BE11))/($BQ11/$BP11)), "OI",IF(ISBLANK($BP11),($BQ11-$BC11)/$BQ11,(($BQ11/$BP11)-$BC11)/($BQ11/$BP11)), "Scanback",IF(ISBLANK($BP11),($BQ11-($BC11-$AZ11))/$BQ11,(($BQ11/$BP11)-($BC11-$AZ11))/($BQ11/$BP11))),"")} | CD11: =IF(LEN($BI11)<1,"",IFERROR($BI11,"")) | CF11: =IF(LEN($CD11)<1,"",IFERROR($CD11-$CE11,"")) | DB11: =IF(LEN($DA11)<1,"",RIGHT(10-RIGHT( MID(_xlfn.CONCAT(REPT("0",12-LEN($DA11)),$DA11),1,1) +MID(_xlfn.CONCAT(REPT("0",12-LEN($DA11)),$DA11),2,1)*3 +MID(_xlfn.CONCAT(REPT("0",12-LEN($DA11)),$DA11),3,1) +MID(_xlfn.CONCAT(REPT("0",12-LEN($DA11)),$DA11),4,1)*3 +MID(_xlfn.CONCAT(REPT("0",12-LEN($DA11)),$DA11),5,1) +MID(_xlfn.CONCAT(REPT("0",12-LEN($DA11)),$DA11),6,1)*3 +MID(_xlfn.CONCAT(REPT("0",12-LEN($DA11)),$DA11),7,1) +MID(_xlfn.CONCAT(REPT("0",12-LEN($DA11)),$DA11),8,1)*3 +MID(_xlfn.CONCAT(REPT("0",12-LEN($DA11)),$DA11),9,1) +MID(_xlfn.CONCAT(REPT("0",12-LEN($DA11)),$DA11),10,1)*3 +MID(_xlfn.CONCAT(REPT("0",12-LEN($DA11)),$DA11),11,1) +MID(_xlfn.CONCAT(REPT("0",12-LEN($DA11)),$DA11),12,1)*3)))
J12: =IF(LEN($I12)<1,"",RIGHT(10-RIGHT( MID(_xlfn.CONCAT(REPT("0",12-LEN($I12)),$I12),1,1) +MID(_xlfn.CONCAT(REPT("0",12-LEN($I12)),$I12),2,1)*3 +MID(_xlfn.CONCAT(REPT("0",12-LEN($I12)),$I12),3,1) +MID(_xlfn.CONCAT(REPT("0",12-LEN($I12)),$I12),4,1)*3 +MID(_xlfn.CONCAT(REPT("0",12-LEN($I12)),$I12),5,1) +MID(_xlfn.CONCAT(REPT("0",12-LEN($I12)),$I12),6,1)*3 +MID(_xlfn.CONCAT(REPT("0",12-LEN($I12)),$I12),7,1) +MID(_xlfn.CONCAT(REPT("0",12-LEN($I12)),$I12),8,1)*3 +MID(_xlfn.CONCAT(REPT("0",12-LEN($I12)),$I12),9,1) +MID(_xlfn.CONCAT(REPT("0",12-LEN($I12)),$I12),10,1)*3 +MID(_xlfn.CONCAT(REPT("0",12-LEN($I12)),$I12),11,1) +MID(_xlfn.CONCAT(REPT("0",12-LEN($I12)),$I12),12,1)*3))) | M12: =IF(LEN($L12)<1,"",RIGHT(10-RIGHT( MID(_xlfn.CONCAT(REPT("0",12-LEN($L12)),$L12),1,1) +MID(_xlfn.CONCAT(REPT("0",12-LEN($L12)),$L12),2,1)*3 +MID(_xlfn.CONCAT(REPT("0",12-LEN($L12)),$L12),3,1) +MID(_xlfn.CONCAT(REPT("0",12-LEN($L12)),$L12),4,1)*3 +MID(_xlfn.CONCAT(REPT("0",12-LEN($L12)),$L12),5,1) +MID(_xlfn.CONCAT(REPT("0",12-LEN($L12)),$L12),6,1)*3 +MID(_xlfn.CONCAT(REPT("0",12-LEN($L12)),$L12),7,1) +MID(_xlfn.CONCAT(REPT("0",12-LEN($L12)),$L12),8,1)*3 +MID(_xlfn.CONCAT(REPT("0",12-LEN($L12)),$L12),9,1) +MID(_xlfn.CONCAT(REPT("0",12-LEN($L12)),$L12),10,1)*3 +MID(_xlfn.CONCAT(REPT("0",12-LEN($L12)),$L12),11,1) +MID(_xlfn.CONCAT(REPT("0",12-LEN($L12)),$L12),12,1)*3))) | P12: =IF(LEN($O12)<1,"",RIGHT(10-RIGHT( MID(_xlfn.CONCAT(REPT("0",14-LEN($O12)),$O12),1,1) +MID(_xlfn.CONCAT(REPT("0",14-LEN($O12)),$O12),2,1)*3 +MID(_xlfn.CONCAT(REPT("0",14-LEN($O12)),$O12),3,1) +MID(_xlfn.CONCAT(REPT("0",14-LEN($O12)),$O12),4,1)*3 +MID(_xlfn.CONCAT(REPT("0",14-LEN($O12)),$O12),5,1) +MID(_xlfn.CONCAT(REPT("0",14-LEN($O12)),$O12),6,1)*3 +MID(_xlfn.CONCAT(REPT("0",14-LEN($O12)),$O12),7,1) +MID(_xlfn.CONCAT(REPT("0",14-LEN($O12)),$O12),8,1)*3 +MID(_xlfn.CONCAT(REPT("0",14-LEN($O12)),$O12),9,1) +MID(_xlfn.CONCAT(REPT("0",14-LEN($O12)),$O12),10,1)*3 +MID(_xlfn.CONCAT(REPT("0",14-LEN($O12)),$O12),11,1) +MID(_xlfn.CONCAT(REPT("0",14-LEN($O12)),$O12),12,1)*3 +MID(_xlfn.CONCAT(REPT("0",14-LEN($O12)),$O12),13,1) +MID(_xlfn.CONCAT(REPT("0",14-LEN($O12)),$O12),14,1)*3))) | R12: =IF( LEN($Q12)<1, "", RIGHT(10-RIGHT( MID($Q12,1,1)*3 +MID($Q12,2,1) +MID($Q12,3,1)*3 +MID($Q12,4,1) +MID($Q12,5,1)*3 +MID($Q12,6,1) +MID($Q12,7,1)*3 +MID($Q12,8,1) +MID($Q12,9,1)*3 +MID($Q12,10,1) +MID($Q12,11,1)*3 +MID($Q12,12,1) +MID($Q12,13,1)*3,1),1) ) | T12: =IF(LEN(U12)>0,U12,"") | AS12: =IF(LEN($AO12)<1,"",IF(LEN($AP12)<1,"",IF(LEN($AQ12)<1,"",IFERROR(($AO12*$AP12*$AQ12)/1728,"")))) | AY12: =IF(LEN($AX12)<1,"",IF(LEN($AK12)<1,$AX12,IFERROR($AX12/$AK12,""))) | BB12: =IF(LEN($AW12)<1,"",IF(LEN($BA12)<1,"",IFERROR($AW12/(1-$BA12),""))) | BC12: =IF(LEN($AY12)<1,"",IF(LEN($BA12)<1,"",IFERROR($AY12/(1-$BA12),""))) | BF12: {=IF(LEN($BD12)<1,"",IFERROR( _xlfn.SWITCH($BD12, "None","", "OI & Reflect",(($BC12-$BE12)-($AY12-$AZ12))/($BC12-$BE12), "OI",($BC12-($AY12-$AZ12))/($BC12),"Scanback",""),""))} | BR12: =IFERROR(IF(ISBLANK(BP12),((BQ12-AW12)/BQ12),(((BQ12/BP12)-AW12)/(BQ12/BP12))),"") | BS12: {=IFERROR( _xlfn.SWITCH($BD12, 0,IF(ISBLANK($BP12),($BQ12-$BC12)/$BQ12,(($BQ12/$BP12)-$BC12)/($BQ12/$BP12)), "None",IF(ISBLANK($BP12),($BQ12-$BC12)/$BQ12,(($BQ12/$BP12)-$BC12)/($BQ12/$BP12)), "OI & Reflect",IF(ISBLANK($BP12),($BQ12-($BC12-$BE12))/$BQ12,(($BQ12/$BP12)-($BC12-$BE12))/($BQ12/$BP12)), "OI",IF(ISBLANK($BP12),($BQ12-$BC12)/$BQ12,(($BQ12/$BP12)-$BC12)/($BQ12/$BP12)), "Scanback",IF(ISBLANK($BP12),($BQ12-($BC12-$AZ12))/$BQ12,(($BQ12/$BP12)-($BC12-$AZ12))/($BQ12/$BP12))),"")} | CD12: =IF(LEN($BI12)<1,"",IFERROR($BI12,"")) | CF12: =IF(LEN($CD12)<1,"",IFERROR($CD12-$CE12,"")) | DB12: =IF(LEN($DA12)<1,"",RIGHT(10-RIGHT( MID(_xlfn.CONCAT(REPT("0",12-LEN($DA12)),$DA12),1,1) +MID(_xlfn.CONCAT(REPT("0",12-LEN($DA12)),$DA12),2,1)*3 +MID(_xlfn.CONCAT(REPT("0",12-LEN($DA12)),$DA12),3,1) +MID(_xlfn.CONCAT(REPT("0",12-LEN($DA12)),$DA12),4,1)*3 +MID(_xlfn.CONCAT(REPT("0",12-LEN($DA12)),$DA12),5,1) +MID(_xlfn.CONCAT(REPT("0",12-LEN($DA12)),$DA12),6,1)*3 +MID(_xlfn.CONCAT(REPT("0",12-LEN($DA12)),$DA12),7,1) +MID(_xlfn.CONCAT(REPT("0",12-LEN($DA12)),$DA12),8,1)*3 +MID(_xlfn.CONCAT(REPT("0",12-LEN($DA12)),$DA12),9,1) +MID(_xlfn.CONCAT(REPT("0",12-LEN($DA12)),$DA12),10,1)*3 +MID(_xlfn.CONCAT(REPT("0",12-LEN($DA12)),$DA12),11,1) +MID(_xlfn.CONCAT(REPT("0",12-LEN($DA12)),$DA12),12,1)*3)))
J13: =IF(LEN($I13)<1,"",RIGHT(10-RIGHT( MID(_xlfn.CONCAT(REPT("0",12-LEN($I13)),$I13),1,1) +MID(_xlfn.CONCAT(REPT("0",12-LEN($I13)),$I13),2,1)*3 +MID(_xlfn.CONCAT(REPT("0",12-LEN($I13)),$I13),3,1) +MID(_xlfn.CONCAT(REPT("0",12-LEN($I13)),$I13),4,1)*3 +MID(_xlfn.CONCAT(REPT("0",12-LEN($I13)),$I13),5,1) +MID(_xlfn.CONCAT(REPT("0",12-LEN($I13)),$I13),6,1)*3 +MID(_xlfn.CONCAT(REPT("0",12-LEN($I13)),$I13),7,1) +MID(_xlfn.CONCAT(REPT("0",12-LEN($I13)),$I13),8,1)*3 +MID(_xlfn.CONCAT(REPT("0",12-LEN($I13)),$I13),9,1) +MID(_xlfn.CONCAT(REPT("0",12-LEN($I13)),$I13),10,1)*3 +MID(_xlfn.CONCAT(REPT("0",12-LEN($I13)),$I13),11,1) +MID(_xlfn.CONCAT(REPT("0",12-LEN($I13)),$I13),12,1)*3))) | M13: =IF(LEN($L13)<1,"",RIGHT(10-RIGHT( MID(_xlfn.CONCAT(REPT("0",12-LEN($L13)),$L13),1,1) +MID(_xlfn.CONCAT(REPT("0",12-LEN($L13)),$L13),2,1)*3 +MID(_xlfn.CONCAT(REPT("0",12-LEN($L13)),$L13),3,1) +MID(_xlfn.CONCAT(REPT("0",12-LEN($L13)),$L13),4,1)*3 +MID(_xlfn.CONCAT(REPT("0",12-LEN($L13)),$L13),5,1) +MID(_xlfn.CONCAT(REPT("0",12-LEN($L13)),$L13),6,1)*3 +MID(_xlfn.CONCAT(REPT("0",12-LEN($L13)),$L13),7,1) +MID(_xlfn.CONCAT(REPT("0",12-LEN($L13)),$L13),8,1)*3 +MID(_xlfn.CONCAT(REPT("0",12-LEN($L13)),$L13),9,1) +MID(_xlfn.CONCAT(REPT("0",12-LEN($L13)),$L13),10,1)*3 +MID(_xlfn.CONCAT(REPT("0",12-LEN($L13)),$L13),11,1) +MID(_xlfn.CONCAT(REPT("0",12-LEN($L13)),$L13),12,1)*3))) | P13: =IF(LEN($O13)<1,"",RIGHT(10-RIGHT( MID(_xlfn.CONCAT(REPT("0",14-LEN($O13)),$O13),1,1) +MID(_xlfn.CONCAT(REPT("0",14-LEN($O13)),$O13),2,1)*3 +MID(_xlfn.CONCAT(REPT("0",14-LEN($O13)),$O13),3,1) +MID(_xlfn.CONCAT(REPT("0",14-LEN($O13)),$O13),4,1)*3 +MID(_xlfn.CONCAT(REPT("0",14-LEN($O13)),$O13),5,1) +MID(_xlfn.CONCAT(REPT("0",14-LEN($O13)),$O13),6,1)*3 +MID(_xlfn.CONCAT(REPT("0",14-LEN($O13)),$O13),7,1) +MID(_xlfn.CONCAT(REPT("0",14-LEN($O13)),$O13),8,1)*3 +MID(_xlfn.CONCAT(REPT("0",14-LEN($O13)),$O13),9,1) +MID(_xlfn.CONCAT(REPT("0",14-LEN($O13)),$O13),10,1)*3 +MID(_xlfn.CONCAT(REPT("0",14-LEN($O13)),$O13),11,1) +MID(_xlfn.CONCAT(REPT("0",14-LEN($O13)),$O13),12,1)*3 +MID(_xlfn.CONCAT(REPT("0",14-LEN($O13)),$O13),13,1) +MID(_xlfn.CONCAT(REPT("0",14-LEN($O13)),$O13),14,1)*3))) | R13: =IF( LEN($Q13)<1, "", RIGHT(10-RIGHT( MID($Q13,1,1)*3 +MID($Q13,2,1) +MID($Q13,3,1)*3 +MID($Q13,4,1) +MID($Q13,5,1)*3 +MID($Q13,6,1) +MID($Q13,7,1)*3 +MID($Q13,8,1) +MID($Q13,9,1)*3 +MID($Q13,10,1) +MID($Q13,11,1)*3 +MID($Q13,12,1) +MID($Q13,13,1)*3,1),1) ) | T13: =IF(LEN(U13)>0,U13,"") | AS13: =IF(LEN($AO13)<1,"",IF(LEN($AP13)<1,"",IF(LEN($AQ13)<1,"",IFERROR(($AO13*$AP13*$AQ13)/1728,"")))) | AY13: =IF(LEN($AX13)<1,"",IF(LEN($AK13)<1,$AX13,IFERROR($AX13/$AK13,""))) | BB13: =IF(LEN($AW13)<1,"",IF(LEN($BA13)<1,"",IFERROR($AW13/(1-$BA13),""))) | BC13: =IF(LEN($AY13)<1,"",IF(LEN($BA13)<1,"",IFERROR($AY13/(1-$BA13),""))) | BF13: {=IF(LEN($BD13)<1,"",IFERROR( _xlfn.SWITCH($BD13, "None","", "OI & Reflect",(($BC13-$BE13)-($AY13-$AZ13))/($BC13-$BE13), "OI",($BC13-($AY13-$AZ13))/($BC13),"Scanback",""),""))} | BR13: =IFERROR(IF(ISBLANK(BP13),((BQ13-AW13)/BQ13),(((BQ13/BP13)-AW13)/(BQ13/BP13))),"") | BS13: {=IFERROR( _xlfn.SWITCH($BD13, 0,IF(ISBLANK($BP13),($BQ13-$BC13)/$BQ13,(($BQ13/$BP13)-$BC13)/($BQ13/$BP13)), "None",IF(ISBLANK($BP13),($BQ13-$BC13)/$BQ13,(($BQ13/$BP13)-$BC13)/($BQ13/$BP13)), "OI & Reflect",IF(ISBLANK($BP13),($BQ13-($BC13-$BE13))/$BQ13,(($BQ13/$BP13)-($BC13-$BE13))/($BQ13/$BP13)), "OI",IF(ISBLANK($BP13),($BQ13-$BC13)/$BQ13,(($BQ13/$BP13)-$BC13)/($BQ13/$BP13)), "Scanback",IF(ISBLANK($BP13),($BQ13-($BC13-$AZ13))/$BQ13,(($BQ13/$BP13)-($BC13-$AZ13))/($BQ13/$BP13))),"")} | CD13: =IF(LEN($BI13)<1,"",IFERROR($BI13,"")) | CF13: =IF(LEN($CD13)<1,"",IFERROR($CD13-$CE13,"")) | DB13: =IF(LEN($DA13)<1,"",RIGHT(10-RIGHT( MID(_xlfn.CONCAT(REPT("0",12-LEN($DA13)),$DA13),1,1) +MID(_xlfn.CONCAT(REPT("0",12-LEN($DA13)),$DA13),2,1)*3 +MID(_xlfn.CONCAT(REPT("0",12-LEN($DA13)),$DA13),3,1) +MID(_xlfn.CONCAT(REPT("0",12-LEN($DA13)),$DA13),4,1)*3 +MID(_xlfn.CONCAT(REPT("0",12-LEN($DA13)),$DA13),5,1) +MID(_xlfn.CONCAT(REPT("0",12-LEN($DA13)),$DA13),6,1)*3 +MID(_xlfn.CONCAT(REPT("0",12-LEN($DA13)),$DA13),7,1) +MID(_xlfn.CONCAT(REPT("0",12-LEN($DA13)),$DA13),8,1)*3 +MID(_xlfn.CONCAT(REPT("0",12-LEN($DA13)),$DA13),9,1) +MID(_xlfn.CONCAT(REPT("0",12-LEN($DA13)),$DA13),10,1)*3 +MID(_xlfn.CONCAT(REPT("0",12-LEN($DA13)),$DA13),11,1) +MID(_xlfn.CONCAT(REPT("0",12-LEN($DA13)),$DA13),12,1)*3)))
J14: =IF(LEN($I14)<1,"",RIGHT(10-RIGHT( MID(_xlfn.CONCAT(REPT("0",12-LEN($I14)),$I14),1,1) +MID(_xlfn.CONCAT(REPT("0",12-LEN($I14)),$I14),2,1)*3 +MID(_xlfn.CONCAT(REPT("0",12-LEN($I14)),$I14),3,1) +MID(_xlfn.CONCAT(REPT("0",12-LEN($I14)),$I14),4,1)*3 +MID(_xlfn.CONCAT(REPT("0",12-LEN($I14)),$I14),5,1) +MID(_xlfn.CONCAT(REPT("0",12-LEN($I14)),$I14),6,1)*3 +MID(_xlfn.CONCAT(REPT("0",12-LEN($I14)),$I14),7,1) +MID(_xlfn.CONCAT(REPT("0",12-LEN($I14)),$I14),8,1)*3 +MID(_xlfn.CONCAT(REPT("0",12-LEN($I14)),$I14),9,1) +MID(_xlfn.CONCAT(REPT("0",12-LEN($I14)),$I14),10,1)*3 +MID(_xlfn.CONCAT(REPT("0",12-LEN($I14)),$I14),11,1) +MID(_xlfn.CONCAT(REPT("0",12-LEN($I14)),$I14),12,1)*3))) | M14: =IF(LEN($L14)<1,"",RIGHT(10-RIGHT( MID(_xlfn.CONCAT(REPT("0",12-LEN($L14)),$L14),1,1) +MID(_xlfn.CONCAT(REPT("0",12-LEN($L14)),$L14),2,1)*3 +MID(_xlfn.CONCAT(REPT("0",12-LEN($L14)),$L14),3,1) +MID(_xlfn.CONCAT(REPT("0",12-LEN($L14)),$L14),4,1)*3 +MID(_xlfn.CONCAT(REPT("0",12-LEN($L14)),$L14),5,1) +MID(_xlfn.CONCAT(REPT("0",12-LEN($L14)),$L14),6,1)*3 +MID(_xlfn.CONCAT(REPT("0",12-LEN($L14)),$L14),7,1) +MID(_xlfn.CONCAT(REPT("0",12-LEN($L14)),$L14),8,1)*3 +MID(_xlfn.CONCAT(REPT("0",12-LEN($L14)),$L14),9,1) +MID(_xlfn.CONCAT(REPT("0",12-LEN($L14)),$L14),10,1)*3 +MID(_xlfn.CONCAT(REPT("0",12-LEN($L14)),$L14),11,1) +MID(_xlfn.CONCAT(REPT("0",12-LEN($L14)),$L14),12,1)*3))) | P14: =IF(LEN($O14)<1,"",RIGHT(10-RIGHT( MID(_xlfn.CONCAT(REPT("0",14-LEN($O14)),$O14),1,1) +MID(_xlfn.CONCAT(REPT("0",14-LEN($O14)),$O14),2,1)*3 +MID(_xlfn.CONCAT(REPT("0",14-LEN($O14)),$O14),3,1) +MID(_xlfn.CONCAT(REPT("0",14-LEN($O14)),$O14),4,1)*3 +MID(_xlfn.CONCAT(REPT("0",14-LEN($O14)),$O14),5,1) +MID(_xlfn.CONCAT(REPT("0",14-LEN($O14)),$O14),6,1)*3 +MID(_xlfn.CONCAT(REPT("0",14-LEN($O14)),$O14),7,1) +MID(_xlfn.CONCAT(REPT("0",14-LEN($O14)),$O14),8,1)*3 +MID(_xlfn.CONCAT(REPT("0",14-LEN($O14)),$O14),9,1) +MID(_xlfn.CONCAT(REPT("0",14-LEN($O14)),$O14),10,1)*3 +MID(_xlfn.CONCAT(REPT("0",14-LEN($O14)),$O14),11,1) +MID(_xlfn.CONCAT(REPT("0",14-LEN($O14)),$O14),12,1)*3 +MID(_xlfn.CONCAT(REPT("0",14-LEN($O14)),$O14),13,1) +MID(_xlfn.CONCAT(REPT("0",14-LEN($O14)),$O14),14,1)*3))) | R14: =IF( LEN($Q14)<1, "", RIGHT(10-RIGHT( MID($Q14,1,1)*3 +MID($Q14,2,1) +MID($Q14,3,1)*3 +MID($Q14,4,1) +MID($Q14,5,1)*3 +MID($Q14,6,1) +MID($Q14,7,1)*3 +MID($Q14,8,1) +MID($Q14,9,1)*3 +MID($Q14,10,1) +MID($Q14,11,1)*3 +MID($Q14,12,1) +MID($Q14,13,1)*3,1),1) ) | T14: =IF(LEN(U14)>0,U14,"") | AS14: =IF(LEN($AO14)<1,"",IF(LEN($AP14)<1,"",IF(LEN($AQ14)<1,"",IFERROR(($AO14*$AP14*$AQ14)/1728,"")))) | AY14: =IF(LEN($AX14)<1,"",IF(LEN($AK14)<1,$AX14,IFERROR($AX14/$AK14,""))) | BB14: =IF(LEN($AW14)<1,"",IF(LEN($BA14)<1,"",IFERROR($AW14/(1-$BA14),""))) | BC14: =IF(LEN($AY14)<1,"",IF(LEN($BA14)<1,"",IFERROR($AY14/(1-$BA14),""))) | BF14: {=IF(LEN($BD14)<1,"",IFERROR( _xlfn.SWITCH($BD14, "None","", "OI & Reflect",(($BC14-$BE14)-($AY14-$AZ14))/($BC14-$BE14), "OI",($BC14-($AY14-$AZ14))/($BC14),"Scanback",""),""))} | BR14: =IFERROR(IF(ISBLANK(BP14),((BQ14-AW14)/BQ14),(((BQ14/BP14)-AW14)/(BQ14/BP14))),"") | BS14: {=IFERROR( _xlfn.SWITCH($BD14, 0,IF(ISBLANK($BP14),($BQ14-$BC14)/$BQ14,(($BQ14/$BP14)-$BC14)/($BQ14/$BP14)), "None",IF(ISBLANK($BP14),($BQ14-$BC14)/$BQ14,(($BQ14/$BP14)-$BC14)/($BQ14/$BP14)), "OI & Reflect",IF(ISBLANK($BP14),($BQ14-($BC14-$BE14))/$BQ14,(($BQ14/$BP14)-($BC14-$BE14))/($BQ14/$BP14)), "OI",IF(ISBLANK($BP14),($BQ14-$BC14)/$BQ14,(($BQ14/$BP14)-$BC14)/($BQ14/$BP14)), "Scanback",IF(ISBLANK($BP14),($BQ14-($BC14-$AZ14))/$BQ14,(($BQ14/$BP14)-($BC14-$AZ14))/($BQ14/$BP14))),"")} | CD14: =IF(LEN($BI14)<1,"",IFERROR($BI14,"")) | CF14: =IF(LEN($CD14)<1,"",IFERROR($CD14-$CE14,"")) | DB14: =IF(LEN($DA14)<1,"",RIGHT(10-RIGHT( MID(_xlfn.CONCAT(REPT("0",12-LEN($DA14)),$DA14),1,1) +MID(_xlfn.CONCAT(REPT("0",12-LEN($DA14)),$DA14),2,1)*3 +MID(_xlfn.CONCAT(REPT("0",12-LEN($DA14)),$DA14),3,1) +MID(_xlfn.CONCAT(REPT("0",12-LEN($DA14)),$DA14),4,1)*3 +MID(_xlfn.CONCAT(REPT("0",12-LEN($DA14)),$DA14),5,1) +MID(_xlfn.CONCAT(REPT("0",12-LEN($DA14)),$DA14),6,1)*3 +MID(_xlfn.CONCAT(REPT("0",12-LEN($DA14)),$DA14),7,1) +MID(_xlfn.CONCAT(REPT("0",12-LEN($DA14)),$DA14),8,1)*3 +MID(_xlfn.CONCAT(REPT("0",12-LEN($DA14)),$DA14),9,1) +MID(_xlfn.CONCAT(REPT("0",12-LEN($DA14)),$DA14),10,1)*3 +MID(_xlfn.CONCAT(REPT("0",12-LEN($DA14)),$DA14),11,1) +MID(_xlfn.CONCAT(REPT("0",12-LEN($DA14)),$DA14),12,1)*3)))
